BEGIN:VCALENDAR
VERSION:2.0
PRODID:-//wp-events-plugin.com//7.2.3.1//EN
TZID:Europe/Berlin
X-WR-TIMEZONE:Europe/Berlin
BEGIN:VEVENT
UID:580@kneipenkonzerte.de
DTSTART;TZID=Europe/Berlin:20161008T210000
DTEND;TZID=Europe/Berlin:20161008T233000
DTSTAMP:20161006T174931Z
URL:https://kneipenkonzerte.de/veranstaltungen/2d-quintet-a-tribute-to-mil
 es-davis/
SUMMARY:2D QUINTET - A Tribute to Miles Davis
DESCRIPTION:Gabriel Rosenbach - Trp\nAdam Gräbner - T. Sax\nJohanna Summer
 er - Piano\nHedi Yatouj - E. Bass\nJoao Raineri - Drums
ATTACH;FMTTYPE=image/jpeg:https://kneipenkonzerte.de/wp-content/uploads/20
 16/05/kneipenkonzert-livemusik-veranstaltung-1.jpg
CATEGORIES:Jazz
LOCATION:Blue Note\, Görlitzer Straße 2b \, Dresden\, Sachsen\, 01099 \, 
 Dresden\, Deutschland
GEO:51.0666016;13.75412940000001
X-APPLE-STRUCTURED-LOCATION;VALUE=URI;X-ADDRESS=Görlitzer Straße 2b \, Dr
 esden\, Sachsen\, 01099 \, Dresden\, Deutschland;X-APPLE-RADIUS=100;X-TITL
 E=Blue Note:geo:51.0666016,13.75412940000001
END:VEVENT
BEGIN:VTIMEZONE
TZID:Europe/Berlin
X-LIC-LOCATION:Europe/Berlin
BEGIN:DAYLIGHT
DTSTART:20160327T030000
TZOFFSETFROM:+0100
TZOFFSETTO:+0200
TZNAME:CEST
END:DAYLIGHT
END:VTIMEZONE
END:VCALENDAR