BEGIN:VCALENDAR
VERSION:2.0
PRODID:-//wp-events-plugin.com//7.2.3.1//EN
TZID:Europe/Berlin
X-WR-TIMEZONE:Europe/Berlin
BEGIN:VEVENT
UID:586@kneipenkonzerte.de
DTSTART;TZID=Europe/Berlin:20161105T210000
DTEND;TZID=Europe/Berlin:20161105T223000
DTSTAMP:20161012T092743Z
URL:https://kneipenkonzerte.de/veranstaltungen/adderstone/
SUMMARY:Adderstone
DESCRIPTION:Konzert der Band Adderstone\nMit Adderstone aus Braunschweig ko
 mmt am Samstag\, 5. November um 21 Uhr (Einlass 20 Uhr) eine Band auf die 
 Bühne des ASB-Bahnhofs die sich dem Electric 'N' Acoustic Rock verschrieb
 en haben. Ihre Songs handeln von ganz alltäglichen Dingen\, scheuen nicht
  politische und gesellschaftskritische Themen und berichten vom Trennungss
 chmerz und der ganz großen Liebe. Handgemacht\, Ehrlich und Gut.
ATTACH;FMTTYPE=image/jpeg:https://kneipenkonzerte.de/wp-content/uploads/20
 16/05/kneipenkonzert-livemusik-veranstaltung-1.jpg
CATEGORIES:Rock
LOCATION:ASB-Bahnhof Barsinghausen\, Berliner Straße 8\, Barsinghausen\, N
 iedersachsen\, 30890\, Hannover\, Deutschland
GEO:52.30485;9.46687
X-APPLE-STRUCTURED-LOCATION;VALUE=URI;X-ADDRESS=Berliner Straße 8\, Barsin
 ghausen\, Niedersachsen\, 30890\, Hannover\, Deutschland;X-APPLE-RADIUS=10
 0;X-TITLE=ASB-Bahnhof Barsinghausen:geo:52.30485,9.46687
END:VEVENT
BEGIN:VTIMEZONE
TZID:Europe/Berlin
X-LIC-LOCATION:Europe/Berlin
BEGIN:STANDARD
DTSTART:20161030T020000
TZOFFSETFROM:+0200
TZOFFSETTO:+0100
TZNAME:CET
END:STANDARD
END:VTIMEZONE
END:VCALENDAR