BEGIN:VCALENDAR
VERSION:2.0
PRODID:-//wp-events-plugin.com//7.2.3.1//EN
TZID:Europe/Berlin
X-WR-TIMEZONE:Europe/Berlin
BEGIN:VEVENT
UID:4958@kneipenkonzerte.de
DTSTART;TZID=Europe/Berlin:20220527T193000
DTEND;TZID=Europe/Berlin:20220527T213000
DTSTAMP:20220525T125620Z
URL:https://kneipenkonzerte.de/veranstaltungen/alex-auer-the-detroit-black
 birds/
SUMMARY:Alex Auer &amp\; the Detroit Blackbirds
DESCRIPTION:Open Air Konzert\nAlex Auer war bereits als 20-Jähriger sehr e
 rfolgreich in den USA\, er bekam einen Plattenvertrag und spielte unter an
 derem im New Yorker Nachtclub "The Limelight". Im Jahr 2019 zusammen mit d
 en Detroit Blackbirds erschien dann das Album "Much Better"!\n\nEinlass: 1
 8:30 Uhr\nBeginn: 19:30 Uhr\nEintritt: 20\,00 €
ATTACH;FMTTYPE=image/jpeg:https://kneipenkonzerte.de/wp-content/uploads/20
 22/05/Plakat-2022-Quadratisch-4.jpg
CATEGORIES:Singer/Songwriter
LOCATION:HeimatRock\, Neckarstraße 62\, Ladenburg\, Baden-Württemberg/ De
 utschland\, 68526\, Stuttgart\, Deutschland
GEO:49.46255;8.609516
X-APPLE-STRUCTURED-LOCATION;VALUE=URI;X-ADDRESS=Neckarstraße 62\, Ladenbur
 g\, Baden-Württemberg/ Deutschland\, 68526\, Stuttgart\, Deutschland;X-AP
 PLE-RADIUS=100;X-TITLE=HeimatRock:geo:49.46255,8.609516
END:VEVENT
BEGIN:VTIMEZONE
TZID:Europe/Berlin
X-LIC-LOCATION:Europe/Berlin
BEGIN:DAYLIGHT
DTSTART:20220327T030000
TZOFFSETFROM:+0100
TZOFFSETTO:+0200
TZNAME:CEST
END:DAYLIGHT
END:VTIMEZONE
END:VCALENDAR