BEGIN:VCALENDAR
VERSION:2.0
PRODID:-//wp-events-plugin.com//7.2.3.1//EN
TZID:Europe/Berlin
X-WR-TIMEZONE:Europe/Berlin
BEGIN:VEVENT
UID:555@kneipenkonzerte.de
DTSTART;TZID=Europe/Berlin:20161105T200000
DTEND;TZID=Europe/Berlin:20161105T220000
DTSTAMP:20160913T212456Z
URL:https://kneipenkonzerte.de/veranstaltungen/andrey-makarevich-frankfurt
 /
SUMMARY:Andrey Makarevich. Your 5.
DESCRIPTION:Jazz mit russischer Seele\nAndrey Makarevich mit seinem Jazzpro
 gramm "Your 5" in Deutschland vom 4. bis 13. November.\n\nRussischen Jazz 
 live erleben! Andrey Makarevich ist seit über 40 Jahren Musiker und gilt 
 als einer der bedeutendsten Künstler in Russland. Er hat den Ruf eines st
 ilübergreifenden Allround-Musikers\, Sängers und Entertainers von außer
 gewöhnlicher Vielseitigkeit und Virtuosität.\n\nDas neue Projekt "Your 5
 " stellt ein einzigartiges Programm des schöpferischen Minimalismus und f
 einen Jazz. Während des Konzerts werden große Hits sowie das neue Materi
 al präsentiert.\n\nFreuen Sie sich auf einen ganz besonderen Konzert-Aben
 d zusammen mit Andrey Makarevich!\n\nTickets &amp\; Details: http://piligr
 im.eu/makarevich_your_5/
ATTACH;FMTTYPE=image/jpeg:https://kneipenkonzerte.de/wp-content/uploads/20
 16/09/5-1.jpg
CATEGORIES:Jazz
LOCATION:Haus Sindlingen\, Sindlinger Bahnstraße 124\, Frankfurt am Main\,
  Hessen\, 65931\, Frankfurt\, Deutschland
GEO:50.08806;8.512380000000007
X-APPLE-STRUCTURED-LOCATION;VALUE=URI;X-ADDRESS=Sindlinger Bahnstraße 124\
 , Frankfurt am Main\, Hessen\, 65931\, Frankfurt\, Deutschland;X-APPLE-RAD
 IUS=100;X-TITLE=Haus Sindlingen:geo:50.08806,8.512380000000007
END:VEVENT
BEGIN:VTIMEZONE
TZID:Europe/Berlin
X-LIC-LOCATION:Europe/Berlin
BEGIN:STANDARD
DTSTART:20161030T020000
TZOFFSETFROM:+0200
TZOFFSETTO:+0100
TZNAME:CET
END:STANDARD
END:VTIMEZONE
END:VCALENDAR