BEGIN:VCALENDAR
VERSION:2.0
PRODID:-//wp-events-plugin.com//7.2.3.1//EN
TZID:Europe/Berlin
X-WR-TIMEZONE:Europe/Berlin
BEGIN:VEVENT
UID:556@kneipenkonzerte.de
DTSTART;TZID=Europe/Berlin:20161106T190000
DTEND;TZID=Europe/Berlin:20161106T210000
DTSTAMP:20160913T213002Z
URL:https://kneipenkonzerte.de/veranstaltungen/andrey-makarevich-koeln/
SUMMARY:Andrey Makarevich. Your 5
DESCRIPTION:Jazz mit russischer Seele\nAndrey Makarevich mit einem Jazzprog
 ramm "Your 5" in Deutschland vom 4. bis 13. November.\n\nRussischer Jazz l
 ive erleben! Andrey Makarevich ist seit über 40 Jahren Musiker und gilt a
 ls einer der bedeutendsten Künstler in Russland. Er hat den Ruf eines sti
 llübergreifenden Allround-Musikers\, Sängers und Entertainers von außer
 gewöhnlicher Vielseitigkeit und Virtuosität.\n\nDas neue Projekt "Your 5
 " stellt ein einzigartiges Programm des schöpferischen Minimalismus und f
 einen Jazz. Während des Konzerts werden große Hits sowie das neue Materi
 al präsentiert.\n\nFreuen Sie sich auf einen ganz besonderen Konzert-Aben
 d zusammen mit Andrey Makarevich!\n\nTickets &amp\; Details: http://piligr
 im.eu/makarevich_your_5/
ATTACH;FMTTYPE=image/jpeg:https://kneipenkonzerte.de/wp-content/uploads/20
 16/09/5-2.jpg
CATEGORIES:Jazz
LOCATION:Essigfabrik\, Siegburger Straße 110\, Köln\, Nordrhein-Westfalen
 \, 50679\, Köln\, Deutschland
GEO:50.9247806;6.978191100000004
X-APPLE-STRUCTURED-LOCATION;VALUE=URI;X-ADDRESS=Siegburger Straße 110\, K
 öln\, Nordrhein-Westfalen\, 50679\, Köln\, Deutschland;X-APPLE-RADIUS=10
 0;X-TITLE=Essigfabrik:geo:50.9247806,6.978191100000004
END:VEVENT
BEGIN:VTIMEZONE
TZID:Europe/Berlin
X-LIC-LOCATION:Europe/Berlin
BEGIN:STANDARD
DTSTART:20161030T020000
TZOFFSETFROM:+0200
TZOFFSETTO:+0100
TZNAME:CET
END:STANDARD
END:VTIMEZONE
END:VCALENDAR