BEGIN:VCALENDAR
VERSION:2.0
PRODID:-//wp-events-plugin.com//7.2.3.1//EN
TZID:Europe/Berlin
X-WR-TIMEZONE:Europe/Berlin
BEGIN:VEVENT
UID:559@kneipenkonzerte.de
DTSTART;TZID=Europe/Berlin:20161113T190000
DTEND;TZID=Europe/Berlin:20161113T210000
DTSTAMP:20160913T214230Z
URL:https://kneipenkonzerte.de/veranstaltungen/andrey-makarevich-muenchen/
SUMMARY:Andrey Makarevich. Your 5
DESCRIPTION: Jazz mit russischer Seele\nAndrey Makarevich mit einem Jazzpr
 ogramm "Your 5" in Deutschland vom 4. bis 13. November.\n\nRussischer Jazz
  live erleben! Andrey Makarevich ist seit über 40 Jahren Musiker und gilt
  als einer der bedeutendsten Künstler in Russland. Er hat den Ruf eines s
 tillübergreifenden Allround-Musikers\, Sängers und Entertainers von auß
 ergewöhnlicher Vielseitigkeit und Virtuosität.\n\nDas neue Projekt "Your
  5" stellt ein einzigartiges Programm des schöpferischen Minimalismus und
  feinen Jazz. Während des Konzerts werden große Hits sowie das neue Mate
 rial präsentiert.\n\nFreuen Sie sich auf einen ganz besonderen Konzert-Ab
 end zusammen mit Andrey Makarevich!\n\nTickets &amp\; Details: http://pili
 grim.eu/makarevich_your_5/
ATTACH;FMTTYPE=image/jpeg:https://kneipenkonzerte.de/wp-content/uploads/20
 16/09/5-4.jpg
CATEGORIES:Jazz
LOCATION:TonHalle\, Grafinger Straße 6\, München\, Bayern\, 81671\, Münc
 hen\, Deutschland
GEO:48.12408629999999;11.608004199999982
X-APPLE-STRUCTURED-LOCATION;VALUE=URI;X-ADDRESS=Grafinger Straße 6\, Münc
 hen\, Bayern\, 81671\, München\, Deutschland;X-APPLE-RADIUS=100;X-TITLE=T
 onHalle:geo:48.12408629999999,11.608004199999982
END:VEVENT
BEGIN:VTIMEZONE
TZID:Europe/Berlin
X-LIC-LOCATION:Europe/Berlin
BEGIN:STANDARD
DTSTART:20161030T020000
TZOFFSETFROM:+0200
TZOFFSETTO:+0100
TZNAME:CET
END:STANDARD
END:VTIMEZONE
END:VCALENDAR