BEGIN:VCALENDAR
VERSION:2.0
PRODID:-//wp-events-plugin.com//7.2.3.1//EN
TZID:Europe/Berlin
X-WR-TIMEZONE:Europe/Berlin
BEGIN:VEVENT
UID:558@kneipenkonzerte.de
DTSTART;TZID=Europe/Berlin:20161112T200000
DTEND;TZID=Europe/Berlin:20161112T220000
DTSTAMP:20160913T213931Z
URL:https://kneipenkonzerte.de/veranstaltungen/andrey-makarevich-your-5-ja
 zz-mit-russischer-seele/
SUMMARY:Andrey Makarevich. Your 5. Jazz mit russischer Seele.
DESCRIPTION:Andrey Makarevich mit einem Jazzprogramm "Your 5" in Deutschlan
 d vom 4. bis 13. November.\n\nRussischer Jazz live erleben! Andrey Makarev
 ich ist seit über 40 Jahren Musiker und gilt als einer der bedeutendsten 
 Künstler in Russland. Er hat den Ruf eines stillübergreifenden Allround-
 Musikers\, Sängers und Entertainers von außergewöhnlicher Vielseitigkei
 t und Virtuosität.\n\nDas neue Projekt "Your 5" stellt ein einzigartiges 
 Programm des schöpferischen Minimalismus und feinen Jazz. Während des Ko
 nzerts werden große Hits sowie das neue Material präsentiert.\n\nFreuen 
 Sie sich auf einen ganz besonderen Konzert-Abend zusammen mit Andrey Makar
 evich!\n\n&nbsp\;
ATTACH;FMTTYPE=image/jpeg:https://kneipenkonzerte.de/wp-content/uploads/20
 16/09/5-3.jpg
CATEGORIES:Jazz
LOCATION:Heilig Kreuz Museum\, Zossener Str. 65\, Berlin\, 10961\, Deutschl
 and
GEO:52.49652;13.395750000000021
X-APPLE-STRUCTURED-LOCATION;VALUE=URI;X-ADDRESS=Zossener Str. 65\, Berlin\,
  10961\, Deutschland;X-APPLE-RADIUS=100;X-TITLE=Heilig Kreuz Museum:geo:52
 .49652,13.395750000000021
END:VEVENT
BEGIN:VTIMEZONE
TZID:Europe/Berlin
X-LIC-LOCATION:Europe/Berlin
BEGIN:STANDARD
DTSTART:20161030T020000
TZOFFSETFROM:+0200
TZOFFSETTO:+0100
TZNAME:CET
END:STANDARD
END:VTIMEZONE
END:VCALENDAR