BEGIN:VCALENDAR
VERSION:2.0
PRODID:-//wp-events-plugin.com//7.2.3.1//EN
TZID:Europe/Berlin
X-WR-TIMEZONE:Europe/Berlin
BEGIN:VEVENT
UID:554@kneipenkonzerte.de
DTSTART;TZID=Europe/Berlin:20161104T200000
DTEND;TZID=Europe/Berlin:20161104T220000
DTSTAMP:20160913T211955Z
URL:https://kneipenkonzerte.de/veranstaltungen/andrey-makarevich-your-5/
SUMMARY:Andrey Makarevich. Your 5.
DESCRIPTION:Jazz mit russischer Seele\nAndrey Makarevich mit seinem Jazzpro
 gramm "Your 5" in Deutschland vom 4. bis 13. November.\n\nRussischer Jazz 
 live erleben! Andrey Makarevich ist seit über 40 Jahren Musiker und gilt 
 als einer der bedeutendsten Künstler in Russland. Er hat den Ruf eines st
 illübergreifenden Allround-Musikers\, Sängers und Entertainers von auße
 rgewöhnlicher Vielseitigkeit und Virtuosität.\n\nDas neue Projekt "Your 
 5" stellt ein einzigartiges Programm des schöpferischen Minimalismus und 
 feinen Jazz. Während des Konzerts werden große Hits sowie das neue Mater
 ial präsentiert.\n\nFreuen Sie sich auf einen ganz besonderen Konzert-Abe
 nd zusammen mit Andrey Makarevich!\n\nTickets &amp\; Info: http://piligrim
 .eu/makarevich_your_5/
ATTACH;FMTTYPE=image/jpeg:https://kneipenkonzerte.de/wp-content/uploads/20
 16/09/5.jpg
CATEGORIES:Jazz
LOCATION:Liederhalle\, Berliner Platz 1\, Stuttgart\, Baden-Württemberg\, 
 70174\, Stuttgart\, Deutschland
GEO:48.779502;9.170405500000015
X-APPLE-STRUCTURED-LOCATION;VALUE=URI;X-ADDRESS=Berliner Platz 1\, Stuttgar
 t\, Baden-Württemberg\, 70174\, Stuttgart\, Deutschland;X-APPLE-RADIUS=10
 0;X-TITLE=Liederhalle:geo:48.779502,9.170405500000015
END:VEVENT
BEGIN:VTIMEZONE
TZID:Europe/Berlin
X-LIC-LOCATION:Europe/Berlin
BEGIN:STANDARD
DTSTART:20161030T020000
TZOFFSETFROM:+0200
TZOFFSETTO:+0100
TZNAME:CET
END:STANDARD
END:VTIMEZONE
END:VCALENDAR