BEGIN:VCALENDAR
VERSION:2.0
PRODID:-//wp-events-plugin.com//7.2.3.1//EN
TZID:Europe/Berlin
X-WR-TIMEZONE:Europe/Berlin
BEGIN:VEVENT
UID:2271@kneipenkonzerte.de
DTSTART;TZID=Europe/Berlin:20191108T200000
DTEND;TZID=Europe/Berlin:20191108T230000
DTSTAMP:20190930T162042Z
URL:https://kneipenkonzerte.de/veranstaltungen/attila-vural-enkirch/
SUMMARY:Attila Vural
DESCRIPTION:Percussive Acoustic Guitars\nSein Feriengepäck spricht Bände.
  Wo andere nie ohne ihren Regenschirm verreisen würden – man weiss ja n
 ie\, wie das Wetter wird – oder unter keinen Umständen das Kleine Schwa
 rze zu Hause ließen – wer weiß schon\, welche unerwarteten Feste gefei
 ert werden – wird man Attila Vural auch im Urlaub nie ohne seine Gitarre
  antreffen: Man weiß ja nie\, welche Melodie einem über den Weg läuft. 
 So klingt denn auch seine Musik wie ein großer Koffer voller Ferienerinne
 rungen.\n\nSeit seinen ersten Kompositionen\, die in die frühen neunziger
  Jahre zurückreichen\, zeichnet sich Attila Vurals Musik durch die kreati
 ve Mischung verschiedener Einflüsse aus\, bis hin zu südamerikanisch ang
 ehauchten Rhythmen. Sie finden sich in seinen eigenen Interpretationen ebe
 nso wie in denjenigen der verschiedenen Formationen\, deren Stil Vurals Ar
 rangements geprägt haben (Saf-Inütill\, Approaches) und seine eigenstän
 dige Handschrift erkennen lassen.\n\nAngeregt durch Dominic Millers CD «F
 irst Touch»\, widmet sich Attila Vural seit 1997 zunehmend und seit zehn 
 Jahren ausschließlich der Solo-Gitarre\, die er sowohl in 6-saitiger und 
 12-saitiger Version\, als auch neuerdings in einer 14-saitigen Spezialanfe
 rtigung in Form einer Mandolinen/Dobro-Kombination (Gitarrenbauer: Mitgel 
 Noldin) spielt. Sein unverkennbarer Stil\, der eine perkussiv gespielte Gi
 tarre mit subtilen klassischen Saitenklängen vereint und dabei gänzlich 
 ohne zusätzliche Effekte auskommt\, ist in musikalischer und technischer 
 Hinsicht unüberhörbar durch das Schaffen des deutschen Gitarristen Claus
  Boesser-Ferrari beeinflusst. Daneben erhielt Vural aber auch wichtige Imp
 ulse durch die experimentellen Variationen des Gitarristen Andy Summers (P
 olice).\n\nAttila Vurals Spiel lädt ein\, ihm auf seinen Klangreisen in d
 ie weite Welt musikalischer Begegnungen zu folgen. Dazu stehen mittlerweil
 e zehn Solo-CD’s bereit. Er trat nicht nur National auf\, sondern auch i
 n den USA\, an der European Acoustic Guitar Night im Teatro Goethe-Institu
 t in Rom\, am Internationalen Gitarrenfestival «Open Strings» in Osnabr
 ück und an den Internationalen Neuöttinger Gitarrentage. Unter anderem v
 ertonte er als live Soundtrack\, die Stummfilme «Der letzte Mann» und «
 Nosferatu» von Friedrich Murnau an der Musikfestwoche in Winterthur.\n\nO
 b auf Tonträger oder auf der Bühne: Wer mit Attila Vural die Reise antri
 tt\, wird Orte aufsuchen\, die zu entdecken man einer Solo-Gitarre gar nic
 ht zutrauen würde.\n\n&nbsp\;
ATTACH;FMTTYPE=image/jpeg:https://kneipenkonzerte.de/wp-content/uploads/20
 18/03/u1_3mv30_400x400.jpg
CATEGORIES:Blues
LOCATION:Toms Musikkeller\, Weingasse 12\, \, Enkirch\, Rheinland-Pfalz\, 5
 6850 \, Deutschland
GEO:49.983456;7.124580
X-APPLE-STRUCTURED-LOCATION;VALUE=URI;X-ADDRESS=Weingasse 12\, \, Enkirch\,
  Rheinland-Pfalz\, 56850 \, Deutschland;X-APPLE-RADIUS=100;X-TITLE=Toms Mu
 sikkeller:geo:49.983456,7.124580
END:VEVENT
BEGIN:VTIMEZONE
TZID:Europe/Berlin
X-LIC-LOCATION:Europe/Berlin
BEGIN:STANDARD
DTSTART:20191027T020000
TZOFFSETFROM:+0200
TZOFFSETTO:+0100
TZNAME:CET
END:STANDARD
END:VTIMEZONE
END:VCALENDAR