BEGIN:VCALENDAR
VERSION:2.0
PRODID:-//wp-events-plugin.com//7.2.3.1//EN
TZID:Europe/Berlin
X-WR-TIMEZONE:Europe/Berlin
BEGIN:VEVENT
UID:4938@kneipenkonzerte.de
DTSTART;TZID=Europe/Berlin:20220606T173000
DTEND;TZID=Europe/Berlin:20220606T213000
DTSTAMP:20220520T114917Z
URL:https://kneipenkonzerte.de/veranstaltungen/austropop-im-biergarten/
SUMMARY:Austropop im Biergarten
DESCRIPTION:Das Duo "Mia Zwa" spielt (bei schönem Wetter) im Hartseestübe
 rl Austropop.\n\nDie besten österreichischen Lieder der letzten 50 Jahre 
 von STS\, Fendrich\, Ambros\, Cornelius\, Danzer\, Hirsch\, K. Ostbahn\, H
 . v. Goisern\, Seiler u. Speer usw.
ATTACH;FMTTYPE=image/jpeg:https://kneipenkonzerte.de/wp-content/uploads/20
 22/05/LOGO-Mia-Zwa-quer-kl-2.png
CATEGORIES:Pop
LOCATION:Hartseestüberl Eggstätt\, Lehrer-Hager-Str.6 \, Eggstätt\, Baye
 rn\, 83125\, München\, Deutschland
GEO:47.929537;12.373296
X-APPLE-STRUCTURED-LOCATION;VALUE=URI;X-ADDRESS=Lehrer-Hager-Str.6 \, Eggst
 ätt\, Bayern\, 83125\, München\, Deutschland;X-APPLE-RADIUS=100;X-TITLE=
 Hartseestüberl Eggstätt:geo:47.929537,12.373296
END:VEVENT
BEGIN:VTIMEZONE
TZID:Europe/Berlin
X-LIC-LOCATION:Europe/Berlin
BEGIN:DAYLIGHT
DTSTART:20220327T030000
TZOFFSETFROM:+0100
TZOFFSETTO:+0200
TZNAME:CEST
END:DAYLIGHT
END:VTIMEZONE
END:VCALENDAR