BEGIN:VCALENDAR
VERSION:2.0
PRODID:-//wp-events-plugin.com//7.2.3.1//EN
TZID:Europe/Berlin
X-WR-TIMEZONE:Europe/Berlin
BEGIN:VEVENT
UID:4939@kneipenkonzerte.de
DTSTART;TZID=Europe/Berlin:20221013T190000
DTEND;TZID=Europe/Berlin:20221013T223000
DTSTAMP:20220520T120309Z
URL:https://kneipenkonzerte.de/veranstaltungen/austropop-in-der-brauerei/
SUMMARY:Austropop in der Brauerei
DESCRIPTION:Das Duo "Mia Zwa" spielt in der schönen Brauerei Oberaudorf AU
 STROPOP.\n\nDie besten österreichischen Lieder der letzten 50 Jahre von S
 TS\, Ambros\, Fendrich\, Cornelius\, Hirsch\, Danzer\, K. Ostbahn\, H. v. 
 Goisern\, Seiler u. Speer usw.
ATTACH;FMTTYPE=image/jpeg:https://kneipenkonzerte.de/wp-content/uploads/20
 22/05/LOGO-Mia-Zwa-quer-kl-2-1.png
CATEGORIES:Pop
LOCATION:Brauerei Oberaudorf\, Tiroler Str.5\, Oberaudorf\, Bayern\, 83080\
 , München\, Deutschland
GEO:47.647324;12.177587
X-APPLE-STRUCTURED-LOCATION;VALUE=URI;X-ADDRESS=Tiroler Str.5\, Oberaudorf\
 , Bayern\, 83080\, München\, Deutschland;X-APPLE-RADIUS=100;X-TITLE=Braue
 rei Oberaudorf:geo:47.647324,12.177587
END:VEVENT
BEGIN:VTIMEZONE
TZID:Europe/Berlin
X-LIC-LOCATION:Europe/Berlin
BEGIN:DAYLIGHT
DTSTART:20220327T030000
TZOFFSETFROM:+0100
TZOFFSETTO:+0200
TZNAME:CEST
END:DAYLIGHT
END:VTIMEZONE
END:VCALENDAR