BEGIN:VCALENDAR
VERSION:2.0
PRODID:-//wp-events-plugin.com//7.2.3.1//EN
TZID:Europe/Berlin
X-WR-TIMEZONE:Europe/Berlin
BEGIN:VEVENT
UID:1914@kneipenkonzerte.de
DTSTART;TZID=Europe/Berlin:20180706T200000
DTEND;TZID=Europe/Berlin:20180706T230000
DTSTAMP:20180630T152345Z
URL:https://kneipenkonzerte.de/veranstaltungen/be-swingt/
SUMMARY:Be-Swingt
DESCRIPTION:Das Sommerkonzert bei "Jazz am Turm" wird am 6.7.2018 am Wasser
 turm Magdeburg Alt-Salbke in eine Zeitreise gehen. Hauptsächlich die 80-i
 ger\, haben wir uns für dieses Konzert vorgenommen. "Billie Jean" oder "I
 sn´t she lovely"\, "Africa" oder "Private Dancer – wer kennt die Songs 
 nicht. Aber Be-Swingt hat natürlich einen eigenen Blickwinkel auf die Mus
 ik und die Interpretation - wir nähern uns dieser Musik als Jazz-Quartett
 .\n\nBe-Swingt:\n\n 	Ulrike Nocker voc\,\n 	Oliver Vogt piano\,\n 	Olaf Di
 x bass\,\n 	Max Vonthien drums\n
ATTACH;FMTTYPE=image/jpeg:https://kneipenkonzerte.de/wp-content/uploads/20
 16/05/kneipenkonzert-livemusik-veranstaltung-1.jpg
CATEGORIES:Jazz
LOCATION:Turmpark\, Alt-Salbke 110 \, Magdeburg\, Sachsen-Anhalt\, 39122 \,
  Leipzig - Halle\, Deutschland
GEO:52.08186;11.665020000000027
X-APPLE-STRUCTURED-LOCATION;VALUE=URI;X-ADDRESS=Alt-Salbke 110 \, Magdeburg
 \, Sachsen-Anhalt\, 39122 \, Leipzig - Halle\, Deutschland;X-APPLE-RADIUS=
 100;X-TITLE=Turmpark:geo:52.08186,11.665020000000027
END:VEVENT
BEGIN:VTIMEZONE
TZID:Europe/Berlin
X-LIC-LOCATION:Europe/Berlin
BEGIN:DAYLIGHT
DTSTART:20180325T030000
TZOFFSETFROM:+0100
TZOFFSETTO:+0200
TZNAME:CEST
END:DAYLIGHT
END:VTIMEZONE
END:VCALENDAR