BEGIN:VCALENDAR
VERSION:2.0
PRODID:-//wp-events-plugin.com//7.2.3.1//EN
TZID:Europe/Berlin
X-WR-TIMEZONE:Europe/Berlin
BEGIN:VEVENT
UID:4079@kneipenkonzerte.de
DTSTART;TZID=Europe/Berlin:20200124T200000
DTEND;TZID=Europe/Berlin:20200124T223000
DTSTAMP:20200124T111158Z
URL:https://kneipenkonzerte.de/veranstaltungen/bilk13/
SUMMARY:bilk13
DESCRIPTION:Live in Neuss\nEINTRITT FREI\nDie Düsseldorfer Punkrocker „B
 ILK 13“ nehmen die Fähre und schippern rüber auf die andere Rheinseite
 \, um im benachbarten NEUSS die Altstadt zu rocken. – Das gerade erst ve
 röffentlichte ALBUM „manipuliert“ (November 19\, verfügbar bei Spoti
 fy\, Youtube\, iMusic etc.) ist dabei mit im Gepäck und wird LIVE auf der
  Bühne in der kultigen MUSIKKNEIPE „MAX UND MORITZ“ zelebriert. – V
 ielleicht gibt es an diesem Abend sogar noch den ein oder anderen Überras
 chungs-Track…
ATTACH;FMTTYPE=image/jpeg:https://kneipenkonzerte.de/wp-content/uploads/20
 20/01/20200124_bilk13_maxmoritz_klein.png
CATEGORIES:Punk
LOCATION:Max & Moritz\, Neustraße 21\, Neuss\, NRW\, 41460\, Köln\, Deuts
 chland
GEO:51.197745;6.690381
X-APPLE-STRUCTURED-LOCATION;VALUE=URI;X-ADDRESS=Neustraße 21\, Neuss\, NRW
 \, 41460\, Köln\, Deutschland;X-APPLE-RADIUS=100;X-TITLE=Max & Moritz:geo
 :51.197745,6.690381
END:VEVENT
BEGIN:VTIMEZONE
TZID:Europe/Berlin
X-LIC-LOCATION:Europe/Berlin
BEGIN:STANDARD
DTSTART:20191027T020000
TZOFFSETFROM:+0200
TZOFFSETTO:+0100
TZNAME:CET
END:STANDARD
END:VTIMEZONE
END:VCALENDAR