BEGIN:VCALENDAR
VERSION:2.0
PRODID:-//wp-events-plugin.com//7.2.3.1//EN
TZID:Europe/Berlin
X-WR-TIMEZONE:Europe/Berlin
BEGIN:VEVENT
UID:596@kneipenkonzerte.de
DTSTART;TZID=Europe/Berlin:20161122T210000
DTEND;TZID=Europe/Berlin:20161122T210000
DTSTAMP:20161016T161902Z
URL:https://kneipenkonzerte.de/veranstaltungen/birdeatsbaby-bielefeld/
SUMMARY:Birdeatsbaby
DESCRIPTION:Als 2005 das US Label Projekt Records den Sam­pler „A Dark C
 abaret" her­ausbrachte war endlich eine passende Genrebezeichnung für so
  groß­artige Bands wie Dresden Dolls\, Tiger Lillies oder Katzenjam­mer
  Kabarett gefunden. Zur weltweiten Speerspitze des Dark Cabaret zählen si
 cher auch die großarti­gen Birdeatsbaby aus Brighton\, England \, die Pi
 a­no getriebenen Power-Pop mit dunklen orches­tra­len Klängen verbinde
 n und so einmalige Klänge schaffen.\nIm Vorprogramm spielen Soll:Bruch:St
 elle aus Bielefeld sperrigen Pink Punk.
ATTACH;FMTTYPE=image/jpeg:https://kneipenkonzerte.de/wp-content/uploads/20
 16/10/Birdeatsbaby_klein.jpeg
CATEGORIES:Pop,Rock
LOCATION:Extra Blues Bar\, Siekerstraße 20\, Bielefeld\, NRW\, 33602\, Ost
 westfalen\, Deutschland
GEO:52.0164205;8.531002599999965
X-APPLE-STRUCTURED-LOCATION;VALUE=URI;X-ADDRESS=Siekerstraße 20\, Bielefel
 d\, NRW\, 33602\, Ostwestfalen\, Deutschland;X-APPLE-RADIUS=100;X-TITLE=Ex
 tra Blues Bar:geo:52.0164205,8.531002599999965
END:VEVENT
BEGIN:VTIMEZONE
TZID:Europe/Berlin
X-LIC-LOCATION:Europe/Berlin
BEGIN:STANDARD
DTSTART:20161030T020000
TZOFFSETFROM:+0200
TZOFFSETTO:+0100
TZNAME:CET
END:STANDARD
END:VTIMEZONE
END:VCALENDAR