BEGIN:VCALENDAR
VERSION:2.0
PRODID:-//wp-events-plugin.com//7.2.3.1//EN
TZID:Europe/Berlin
X-WR-TIMEZONE:Europe/Berlin
BEGIN:VEVENT
UID:1905@kneipenkonzerte.de
DTSTART;TZID=Europe/Berlin:20180630T210000
DTEND;TZID=Europe/Berlin:20180630T230000
DTSTAMP:20180629T093744Z
URL:https://kneipenkonzerte.de/veranstaltungen/birds-free-funk/
SUMMARY:Bird’s Free Funk
DESCRIPTION:Bird’s Free Funk\nRuhe und Melodie gefolgt von Groove und Bea
 ts in Eigenkompositionen spielt das Trio „Bird´s Free Funk“\, so daß
  in minimaler Besetzung sich eine neue Welt auftut.\n\n 	Charlotte Joerges
  - Saxophon\, Komposition\n 	Till Schomburg - Ebass\, Komposition\n 	Johan
 nes Metzger - Schlagzeug\, Komposition\n\nEintritt frei - um angemessenen 
 Kulturbeitrag wird gebeten.
ATTACH;FMTTYPE=image/jpeg:https://kneipenkonzerte.de/wp-content/uploads/20
 18/06/birdsfreefunk-live.png
CATEGORIES:Jazz
LOCATION:Peppi Guggenheim\, Weichselstrasse 7 \, Berlin\, Berlin\, 12043 \,
  Berlin\, Deutschland
GEO:52.48419999999999;13.433250000000044
X-APPLE-STRUCTURED-LOCATION;VALUE=URI;X-ADDRESS=Weichselstrasse 7 \, Berlin
 \, Berlin\, 12043 \, Berlin\, Deutschland;X-APPLE-RADIUS=100;X-TITLE=Peppi
  Guggenheim:geo:52.48419999999999,13.433250000000044
END:VEVENT
BEGIN:VTIMEZONE
TZID:Europe/Berlin
X-LIC-LOCATION:Europe/Berlin
BEGIN:DAYLIGHT
DTSTART:20180325T030000
TZOFFSETFROM:+0100
TZOFFSETTO:+0200
TZNAME:CEST
END:DAYLIGHT
END:VTIMEZONE
END:VCALENDAR