BEGIN:VCALENDAR
VERSION:2.0
PRODID:-//wp-events-plugin.com//7.2.3.1//EN
TZID:Europe/Berlin
X-WR-TIMEZONE:Europe/Berlin
BEGIN:VEVENT
UID:626@kneipenkonzerte.de
DTSTART;TZID=Europe/Berlin:20161203T210000
DTEND;TZID=Europe/Berlin:20161203T230000
DTSTAMP:20161113T153052Z
URL:https://kneipenkonzerte.de/veranstaltungen/black-kat-and-kittens-biele
 feld/
SUMMARY:Black Kat and Kittens
DESCRIPTION:Black Kat and Kittens\nBlues Spirituals Soul Roots\nDie drei Wa
 hl-Berliner von Black Kat and Kittens haben vor nicht ganz einem Jahr scho
 n einmal in der Extra Blues Bar ihre Klasse bewiesen.\nSie sind sicher ein
 zigartig in der aktuel­len Blues - Szene. Die englische Sängerin mit jam
 aikani­schen und indischen Wurzeln\, Lorrian Lowe\, nimmt den Zu­hörer 
 mit auf eine Reise durch über ein­hundert Jahre afrika­nisch - amerika
 ­nischer Musik­geschichte. Mit ihrer intensiven Stimme inter­pretiert s
 ie tra­ditionelle und eigene Stücke aus Blues\, Gos­pel\, Folk\, Soul u
 nd afrikani­scher Musik. Be­gleitet wird Sie durch den exzellenten Harp 
 Spieler Adam Sikora (Polen)\, der auch gelegentlich das Schlagzeug spielt\
 , und dem italieni­schen Gitarristen Mauro Pandolfino.
ATTACH;FMTTYPE=image/jpeg:https://kneipenkonzerte.de/wp-content/uploads/20
 16/11/black-kat-and-kittens-_2_klein.jpg
CATEGORIES:Blues
LOCATION:Extra Blues Bar\, Siekerstraße 20\, Bielefeld\, NRW\, 33602\, Ost
 westfalen\, Deutschland
GEO:52.0164205;8.531002599999965
X-APPLE-STRUCTURED-LOCATION;VALUE=URI;X-ADDRESS=Siekerstraße 20\, Bielefel
 d\, NRW\, 33602\, Ostwestfalen\, Deutschland;X-APPLE-RADIUS=100;X-TITLE=Ex
 tra Blues Bar:geo:52.0164205,8.531002599999965
END:VEVENT
BEGIN:VTIMEZONE
TZID:Europe/Berlin
X-LIC-LOCATION:Europe/Berlin
BEGIN:STANDARD
DTSTART:20161030T020000
TZOFFSETFROM:+0200
TZOFFSETTO:+0100
TZNAME:CET
END:STANDARD
END:VTIMEZONE
END:VCALENDAR