BEGIN:VCALENDAR
VERSION:2.0
PRODID:-//wp-events-plugin.com//7.2.3.1//EN
TZID:Europe/Berlin
X-WR-TIMEZONE:Europe/Berlin
BEGIN:VEVENT
UID:165@kneipenkonzerte.de
DTSTART;TZID=Europe/Berlin:20160723T203000
DTEND;TZID=Europe/Berlin:20160723T230000
DTSTAMP:20160529T122950Z
URL:https://kneipenkonzerte.de/veranstaltungen/blue-malva-alternative-grun
 ge/
SUMMARY:Blue Malva - Alternative Grunge
DESCRIPTION:Die Band Blue Malva spielt Musik aus der Richtung Grunge/Altern
 ative der frühen und späten 90er.\nNach mehreren Besetzungswechseln ist 
 die Band mit Thierry an Gitarre und Gesang\, Phil am Bass und Felix am Sch
 lagzeug perfekt.\nDas Trio bietet ruhige und melodische Songs und Songs\, 
 die harte und laute Gitarrenriffs haben.\nDie aus Stuttgart stammende Band
  hat das Ziel\, über eine regionale Bekanntschaft hinaus zu kommen um gr
 ößere Erfolge zu feiern und um größere Bühnen zu bespielen.\nAnfang 2
 016 veröffentlicht die Band ihre erste EP\, Impressions.
ATTACH;FMTTYPE=image/jpeg:https://kneipenkonzerte.de/wp-content/uploads/20
 16/05/blue_malva_1-klein.jpg
CATEGORIES:Alternative,Rock
LOCATION:Danziger Stüble\, Nürnberger Str. 215\, Stuttgart\, Baden-Württ
 emberg\, 70734\, Stuttgart\, Deutschland
GEO:48.8101968;9.25277010000002
X-APPLE-STRUCTURED-LOCATION;VALUE=URI;X-ADDRESS=Nürnberger Str. 215\, Stut
 tgart\, Baden-Württemberg\, 70734\, Stuttgart\, Deutschland;X-APPLE-RADIU
 S=100;X-TITLE=Danziger Stüble:geo:48.8101968,9.25277010000002
END:VEVENT
BEGIN:VTIMEZONE
TZID:Europe/Berlin
X-LIC-LOCATION:Europe/Berlin
BEGIN:DAYLIGHT
DTSTART:20160327T030000
TZOFFSETFROM:+0100
TZOFFSETTO:+0200
TZNAME:CEST
END:DAYLIGHT
END:VTIMEZONE
END:VCALENDAR