BEGIN:VCALENDAR
VERSION:2.0
PRODID:-//wp-events-plugin.com//7.2.3.1//EN
TZID:Europe/Berlin
X-WR-TIMEZONE:Europe/Berlin
BEGIN:VEVENT
UID:1906@kneipenkonzerte.de
DTSTART;TZID=Europe/Berlin:20180706T210000
DTEND;TZID=Europe/Berlin:20180706T230000
DTSTAMP:20180629T094359Z
URL:https://kneipenkonzerte.de/veranstaltungen/bopsanity/
SUMMARY:Bopsanity
DESCRIPTION:Bopsanity\nBopsanity spielen traditionellen\, energetischen Jaz
 z\, der modern und frisch präsentiert wird und meistens aus der Feder ihr
 es Posaunisten Justus Heher stammt. Hardbop aus Köln.\n\n 	Justus Heher 
 – Trombone\, Composition\n 	Yaroslav Likhachev – Tenorsax\n 	Nils Eikm
 eier – Guitar\n 	Julian Walleck – Double Bass\n 	Moritz Baranczyk – 
 Drums\n\nEintritt frei - um angemessenen Kulturbeitrag wird gebeten.
ATTACH;FMTTYPE=image/jpeg:https://kneipenkonzerte.de/wp-content/uploads/20
 16/05/kneipenkonzert-livemusik-veranstaltung-1.jpg
CATEGORIES:Jazz
LOCATION:Peppi Guggenheim\, Weichselstrasse 7 \, Berlin\, Berlin\, 12043 \,
  Berlin\, Deutschland
GEO:52.48419999999999;13.433250000000044
X-APPLE-STRUCTURED-LOCATION;VALUE=URI;X-ADDRESS=Weichselstrasse 7 \, Berlin
 \, Berlin\, 12043 \, Berlin\, Deutschland;X-APPLE-RADIUS=100;X-TITLE=Peppi
  Guggenheim:geo:52.48419999999999,13.433250000000044
END:VEVENT
BEGIN:VTIMEZONE
TZID:Europe/Berlin
X-LIC-LOCATION:Europe/Berlin
BEGIN:DAYLIGHT
DTSTART:20180325T030000
TZOFFSETFROM:+0100
TZOFFSETTO:+0200
TZNAME:CEST
END:DAYLIGHT
END:VTIMEZONE
END:VCALENDAR