BEGIN:VCALENDAR
VERSION:2.0
PRODID:-//wp-events-plugin.com//7.2.3.1//EN
TZID:Europe/Berlin
X-WR-TIMEZONE:Europe/Berlin
BEGIN:VEVENT
UID:4944@kneipenkonzerte.de
DTSTART;TZID=Europe/Berlin:20220605T200000
DTEND;TZID=Europe/Berlin:20220605T220000
DTSTAMP:20220520T121905Z
URL:https://kneipenkonzerte.de/veranstaltungen/bywater-call-jodelund/
SUMMARY:Bywater Call
DESCRIPTION:Bywater nutzt die Klänge von Soul\, Gospel und Blues des Süde
 ns und wird von den rohen\, kraftvollen Vocals von Meghan Parnell geleitet
 . Mit Elementen von Jam-Bands\, traditionellem Blues\, Soul und Rock'n'Rol
 l\, mit Einflüssen von New Orleans\, Alabama und der Kleinstadt Ontario\,
  mit Einflüssen von The Band über Duane Allman\, Aretha Franklin\, Otis 
 Redding und Elmore James\, mit solider Musik Jazz\, und mit grobkörnigem\
 , rauem und emotionalem Gesang versucht Bywater Call\, den Kern aller zu t
 reffen\, die zuhören.\n\nEin echter Beweis für die starke\, mitreißende
  und inspirierende Live-Performance der Band ist\, dass dies alles vor der
  Aufnahme und Veröffentlichung ihres selbstbetitelten Albums geschehen is
 t\, das am 22. November 2019 veröffentlicht worden ist\, gefolgt von eine
 r zweimonatigen Tournee durch Europa\, die sich über Europa erstreckt 9 L
 änder.
ATTACH;FMTTYPE=image/jpeg:https://kneipenkonzerte.de/wp-content/uploads/20
 19/12/bywater-call-scaled.jpg
CATEGORIES:Blues,Gospel,Soul
LOCATION:Gerds Juke Point\, Bahnhofstraße 1\, Joldelund\, Schleswig-Holste
 in\, 25862 \, Schleswig-Holstein\, Deutschland
GEO:54.66357;9.14869
X-APPLE-STRUCTURED-LOCATION;VALUE=URI;X-ADDRESS=Bahnhofstraße 1\, Joldelun
 d\, Schleswig-Holstein\, 25862 \, Schleswig-Holstein\, Deutschland;X-APPLE
 -RADIUS=100;X-TITLE=Gerds Juke Point:geo:54.66357,9.14869
END:VEVENT
BEGIN:VTIMEZONE
TZID:Europe/Berlin
X-LIC-LOCATION:Europe/Berlin
BEGIN:DAYLIGHT
DTSTART:20220327T030000
TZOFFSETFROM:+0100
TZOFFSETTO:+0200
TZNAME:CEST
END:DAYLIGHT
END:VTIMEZONE
END:VCALENDAR