BEGIN:VCALENDAR
VERSION:2.0
PRODID:-//wp-events-plugin.com//7.2.3.1//EN
TZID:Europe/Berlin
X-WR-TIMEZONE:Europe/Berlin
BEGIN:VEVENT
UID:571@kneipenkonzerte.de
DTSTART;TZID=Europe/Berlin:20161002T200000
DTEND;TZID=Europe/Berlin:20161002T230000
DTSTAMP:20160929T091312Z
URL:https://kneipenkonzerte.de/veranstaltungen/call-me-later-herzblut-lang
 enhagen/
SUMMARY:Call Me Later
DESCRIPTION:CALL ME LATER ist eine fünfköpfige Pop-Rock-Band bestehend au
 s Oliver 'Zampano' Irmer (Gitarre)\, Dana Lenk (Gesang)\, Christoph Jordan
  (Schlagzeug) und Andreas Weimer (Bass). Am Sonntag\, den 02.10.2016\, tri
 tt die Band ab 20 Uhr live im Herzblut Langenhagen auf.\n\nCall Me Later b
 eherbergt die Verbindung von Musikern\, die aus völlig verschiedenen Musi
 krichtungen kommen. Einflüsse von Blues über Rock\, bis hin zum Metal fi
 nden sich in den Songs der Band wieder. Lieder mit “beinhartem Rock” b
 is hin zur einfühlsamen Ballade\, die den Zuhörer mitten in‘s Herz tri
 fft. Die Inhalte der Songs beschreiben oftmals Erlebtes und Geträumtes de
 r Musiker\, in dem sich jeder Zuhörer wiedererkennen wird.\nIhr Debutalbu
 m „Fly“ aus dem Jahr 2014 war sehr erfolgreich\, im Dezember 2015 legt
 e Call Me Later mit dem Nachfolgewerk „The Thirteen Rules" einen drauf. 
 Der Grundgedanke war diese „Thirteen Rules“ auf alle Menschen zu über
 tagen\, um aus diesem schlecht organisierten Planeten Erde einen etwas bes
 seren Ort zu machen.“\nDie erste Single „Welcome in the rain" feierte 
 seine Deutschlandpremiere auf dem Sender 3Sat im Rahmen der Sendung Kultur
 zeit und bescherte der Band einen weiteren Achtungserfolg.\nBeim Konzert i
 m Herzblut Langenhagen wird die Band ihr neues Album Live vorzustellen.
ATTACH;FMTTYPE=image/jpeg:https://kneipenkonzerte.de/wp-content/uploads/20
 16/05/kneipenkonzert-livemusik-veranstaltung-1.jpg
CATEGORIES:Rock
LOCATION:Herzblut Sport- und Musikbar Langenhagen\, Brüsseler Str. 1  \, L
 angenhagen\, Niedersachsen\, 30853\, Hannover\, Deutschland
GEO:52.4421;9.72654
X-APPLE-STRUCTURED-LOCATION;VALUE=URI;X-ADDRESS=Brüsseler Str. 1  \, Lange
 nhagen\, Niedersachsen\, 30853\, Hannover\, Deutschland;X-APPLE-RADIUS=100
 ;X-TITLE=Herzblut Sport- und Musikbar Langenhagen:geo:52.4421,9.72654
END:VEVENT
BEGIN:VTIMEZONE
TZID:Europe/Berlin
X-LIC-LOCATION:Europe/Berlin
BEGIN:DAYLIGHT
DTSTART:20160327T030000
TZOFFSETFROM:+0100
TZOFFSETTO:+0200
TZNAME:CEST
END:DAYLIGHT
END:VTIMEZONE
END:VCALENDAR