BEGIN:VCALENDAR
VERSION:2.0
PRODID:-//wp-events-plugin.com//7.2.3.1//EN
TZID:Europe/Berlin
X-WR-TIMEZONE:Europe/Berlin
BEGIN:VEVENT
UID:2274@kneipenkonzerte.de
DTSTART;TZID=Europe/Berlin:20180929T200000
DTEND;TZID=Europe/Berlin:20180929T223000
DTSTAMP:20180805T222001Z
URL:https://kneipenkonzerte.de/veranstaltungen/carlini-dodo-leo-und-martin
 -barsinghausen/
SUMMARY:Carlini\, Dodo Leo und Martin
DESCRIPTION:A Night At The Club-Tour 2016\nSie hatten noch etwas Zeit\, der
  Zug war eh weg\, der nächste würde erst in zwei Wochen kommen. Man hät
 te auch was anderes machen können\, sicher. Doch das mit dem Tanzen ging 
 nicht so gut\, also entschlossen sich die drei Singer/Songwriter Marino Ca
 rlini\, Dodo Leo und Thomas Martin ein Projekt vom Himmel fallen zu lassen
 \, welches an Irrwitz und geistiger Größe kaum zu übertreffen\, an Übe
 rraschung und unverschämten Charme seines Gleichen würde suchen müssen.
  Die verwegene Idee\, sich gegenseitig begleitend\, das künstlerische Sch
 affen der drei auf eine Bühne zu bringen\, sprengt natürlich alles bishe
 r da gewesene. Allein der Gedanke an die Instrumentierung\; akustische Git
 arren\, E- Gitarre\, Bass\, Cajon\, Banjo\, Manoline\, Mundharmonika und P
 erkussion\, sowie Kazoo und selbstverständlich fabulöseste Satzgesänge 
 treibt einem schon die Tränen in die Augen und lässt das Ausmaß dieser 
 herkulanen Idee diffus erahnen…
ATTACH;FMTTYPE=image/jpeg:https://kneipenkonzerte.de/wp-content/uploads/20
 16/05/carlini_dodo_leo_martin-steinhude.jpg
CATEGORIES:Folk,Singer/Songwriter
LOCATION:ASB-Bahnhof Barsinghausen\, Berliner Straße 8\, Barsinghausen\, N
 iedersachsen\, 30890\, Hannover\, Deutschland
GEO:52.30485;9.46687
X-APPLE-STRUCTURED-LOCATION;VALUE=URI;X-ADDRESS=Berliner Straße 8\, Barsin
 ghausen\, Niedersachsen\, 30890\, Hannover\, Deutschland;X-APPLE-RADIUS=10
 0;X-TITLE=ASB-Bahnhof Barsinghausen:geo:52.30485,9.46687
END:VEVENT
BEGIN:VTIMEZONE
TZID:Europe/Berlin
X-LIC-LOCATION:Europe/Berlin
BEGIN:DAYLIGHT
DTSTART:20180325T030000
TZOFFSETFROM:+0100
TZOFFSETTO:+0200
TZNAME:CEST
END:DAYLIGHT
END:VTIMEZONE
END:VCALENDAR