BEGIN:VCALENDAR
VERSION:2.0
PRODID:-//wp-events-plugin.com//7.2.3.1//EN
TZID:Europe/Berlin
X-WR-TIMEZONE:Europe/Berlin
BEGIN:VEVENT
UID:4945@kneipenkonzerte.de
DTSTART;TZID=Europe/Berlin:20241130T200000
DTEND;TZID=Europe/Berlin:20241130T223000
DTSTAMP:20241030T133656Z
URL:https://kneipenkonzerte.de/veranstaltungen/carlini-dodo-leo-und-martin
 -berlin/
SUMMARY:Carlini\, Dodo Leo und Martin
DESCRIPTION:Die drei Musiker spielen sich durch die bunte Vielzahl ihrer In
 strumente\, und schaffen so auch ein immer wieder überraschendes und stet
 ig wechselndes Klangbild.\nWie gut das funktioniert\, haben sie auf ihren 
 bisher vier Alben und sechs Tourneen durch Deutschland\, Tschechien\, Öst
 erreich\, der Schweiz und den Niederlanden unter Beweis gestellt.\nSo mach
 t sich das Trio auch fürderhin auf\, ferne und auch nicht so ferne Galaxi
 en zu beglücken. Die Wege sind noch weit\, und in Sachen Völkerverständ
 igung ist noch eine Menge zu tun.\nCarlini\, Dodo Leo &amp\; Martin sind s
 chon unterwegs…
ATTACH;FMTTYPE=image/jpeg:https://kneipenkonzerte.de/wp-content/uploads/20
 22/05/carlini-dodo-leo-martin-steinhude-2022.jpeg
CATEGORIES:Folk,Singer/Songwriter
LOCATION:Swart\, Dreysestr. 17\, Berlin\, Berlin\, 10559\, Berlin\, Deutsch
 land
GEO:52.528089;13.352511
X-APPLE-STRUCTURED-LOCATION;VALUE=URI;X-ADDRESS=Dreysestr. 17\, Berlin\, Be
 rlin\, 10559\, Berlin\, Deutschland;X-APPLE-RADIUS=100;X-TITLE=Swart:geo:5
 2.528089,13.352511
END:VEVENT
BEGIN:VTIMEZONE
TZID:Europe/Berlin
X-LIC-LOCATION:Europe/Berlin
BEGIN:STANDARD
DTSTART:20241027T020000
TZOFFSETFROM:+0200
TZOFFSETTO:+0100
TZNAME:CET
END:STANDARD
END:VTIMEZONE
END:VCALENDAR