BEGIN:VCALENDAR
VERSION:2.0
PRODID:-//wp-events-plugin.com//7.2.3.1//EN
TZID:Europe/Berlin
X-WR-TIMEZONE:Europe/Berlin
BEGIN:VEVENT
UID:2273@kneipenkonzerte.de
DTSTART;TZID=Europe/Berlin:20181009T190000
DTEND;TZID=Europe/Berlin:20181009T223000
DTSTAMP:20180805T221717Z
URL:https://kneipenkonzerte.de/veranstaltungen/carlini-dodo-leo-und-martin
 -oldenburg/
SUMMARY:Carlini\, Dodo Leo und Martin
DESCRIPTION:Sie hatten noch etwas Zeit\, der Zug war eh weg\, der nächste 
 würde erst in zwei Wochen kommen. Man hätte auch was anderes machen kön
 nen\, sicher. Doch das mit dem Tanzen ging nicht so gut\, also entschlosse
 n sich die drei Singer/Songwriter Marino Carlini\, Dodo Leo und Thomas Mar
 tin ein Projekt vom Himmel fallen zu lassen\, welches an Irrwitz und geist
 iger Größe kaum zu übertreffen\, an Überraschung und unverschämten Ch
 arme seines Gleichen würde suchen müssen. Die verwegene Idee\, sich gege
 nseitig begleitend\, das künstlerische Schaffen der drei auf eine Bühne 
 zu bringen\, sprengt natürlich alles bisher da gewesene. Allein der Gedan
 ke an die Instrumentierung\; akustische Gitarren\, E- Gitarre\, Bass\, Caj
 on\, Banjo\, Manoline\, Mundharmonika und Perkussion\, sowie Kazoo und sel
 bstverständlich fabulöseste Satzgesänge treibt einem schon die Tränen 
 in die Augen und lässt das Ausmaß dieser herkulanen Idee diffus erahnen
 …
ATTACH;FMTTYPE=image/jpeg:https://kneipenkonzerte.de/wp-content/uploads/20
 16/05/carlini_dodo_leo_martin-steinhude.jpg
CATEGORIES:Folk,Singer/Songwriter
LOCATION:Litfaß\, Lindenstraße 56\, Oldenburg\, Niedersachsen\, 26123\, B
 remen\, Deutschland
GEO:53.14943;8.221289999999954
X-APPLE-STRUCTURED-LOCATION;VALUE=URI;X-ADDRESS=Lindenstraße 56\, Oldenbur
 g\, Niedersachsen\, 26123\, Bremen\, Deutschland;X-APPLE-RADIUS=100;X-TITL
 E=Litfaß:geo:53.14943,8.221289999999954
END:VEVENT
BEGIN:VTIMEZONE
TZID:Europe/Berlin
X-LIC-LOCATION:Europe/Berlin
BEGIN:DAYLIGHT
DTSTART:20180325T030000
TZOFFSETFROM:+0100
TZOFFSETTO:+0200
TZNAME:CEST
END:DAYLIGHT
END:VTIMEZONE
END:VCALENDAR