BEGIN:VCALENDAR
VERSION:2.0
PRODID:-//wp-events-plugin.com//7.2.3.1//EN
TZID:Europe/Berlin
X-WR-TIMEZONE:Europe/Berlin
BEGIN:VEVENT
UID:4924@kneipenkonzerte.de
DTSTART;TZID=Europe/Berlin:20220625T200000
DTEND;TZID=Europe/Berlin:20220625T223000
DTSTAMP:20220509T091732Z
URL:https://kneipenkonzerte.de/veranstaltungen/carlini-dodo-leo-und-martin
 -steinhude/
SUMMARY:Carlini\, Dodo Leo und Martin
DESCRIPTION:Die drei gehören inzwischen fest ins Filou-Programm. Und zwar 
 völlig zu Recht: musikalische Höchstleistungen und ausgedachte Erlebniss
 e von wilden Konzert- und Lebensereignissen\, die sich dennoch alle genaus
 o zugetragen haben.\n\nDie drei Musiker spielen sich durch die bunte Vielz
 ahl ihrer Instrumente\, und schaffen so auch ein immer wieder überraschen
 des und stetig wechselndes Klangbild.\nWie gut das funktioniert\, haben si
 e auf ihren bisher vier Alben und sechs Tourneen durch Deutschland\, Tsche
 chien\, Österreich\, der Schweiz und den Niederlanden unter Beweis gestel
 lt.\nSo macht sich das Trio auch fürderhin auf\, ferne und auch nicht so 
 ferne Galaxien zu beglücken. Die Wege sind noch weit\, und in Sachen Völ
 kerverständigung ist noch eine Menge zu tun.\nCarlini\, Dodo Leo &amp\; M
 artin sind schon unterwegs…
ATTACH;FMTTYPE=image/jpeg:https://kneipenkonzerte.de/wp-content/uploads/20
 22/05/carlini-dodo-leo-martin-steinhude-2022.jpeg
CATEGORIES:Folk,Singer/Songwriter
LOCATION:Filou - Die Kneipe.\, Bleichenstr. 9\, Steinhude\, Niedersachsen\,
  31515\, Hannover\, Deutschland
GEO:52.45768;9.36212
X-APPLE-STRUCTURED-LOCATION;VALUE=URI;X-ADDRESS=Bleichenstr. 9\, Steinhude\
 , Niedersachsen\, 31515\, Hannover\, Deutschland;X-APPLE-RADIUS=100;X-TITL
 E=Filou - Die Kneipe.:geo:52.45768,9.36212
END:VEVENT
BEGIN:VTIMEZONE
TZID:Europe/Berlin
X-LIC-LOCATION:Europe/Berlin
BEGIN:DAYLIGHT
DTSTART:20220327T030000
TZOFFSETFROM:+0100
TZOFFSETTO:+0200
TZNAME:CEST
END:DAYLIGHT
END:VTIMEZONE
END:VCALENDAR