BEGIN:VCALENDAR
VERSION:2.0
PRODID:-//wp-events-plugin.com//7.2.3.1//EN
TZID:Europe/Berlin
X-WR-TIMEZONE:Europe/Berlin
BEGIN:VEVENT
UID:4934@kneipenkonzerte.de
DTSTART;TZID=Europe/Berlin:20220609T200000
DTEND;TZID=Europe/Berlin:20220609T223000
DTSTAMP:20220520T115033Z
URL:https://kneipenkonzerte.de/veranstaltungen/chris-grey-the-bluespand/
SUMMARY:Chris Grey &amp\; The BluesPand
DESCRIPTION:Chris Grey &amp\; The BluesPand (DK)\nThu\, 09.06.22 | 20.00h |
  15\,- €\nHAppy Billard * Kurt-A.-Körber Chaussee 73 *21033 HH-Bergedor
 f\nChris Grey &amp\; The BluesPand (DK)\nChris Gray &amp\; The BlueSpand\n
 Endlich auch auf Tournee in Deutschland! Chris Grey &amp\; The Bluesband s
 ind ein echtes Social Media Phänomen! Die Band ist mit ihrem Live-Video 
 „Grab’em by the Elbow“ auf Facebook viral geworden .Das dänische Tr
 io überzeugt mit einzigartiger Musik seine Follower auf der ganzen Welt! 
 Ihre Videos begeistern im Netz bereits mehrere Millionen. Nun wollen die V
 ollblutmusiker ihre Fans auch höchstpersönlich und live von sich überze
 ugen. Egal ob Elektronisch oder Unplugged\, Chris Grey &amp\; The Bluespan
 d versprechen eine Show\, die keiner je vergessen wird!\n\n2011 haben sich
  die Wege der 3 Musiker zum erstenmmal gekreuzt und seitdem bereichern sie
  die dänische Bluesscene. 2012 gewann die Band „The Danish Blues Challe
 nge“ und ist seit dem in ganz Europa unterwegs\n\nEine Fusion aus Blues\
 , Soul\, Funk und Rhythm n Blues verleiht der Band einen besonderen abwech
 slungsreichen Klang. Diese kreative Mischung hat in der CD „Lotta Love
 “ ihren Höhepunkt gefunden und erregte die Aufmerksamkeit der Musikindu
 strie sowie von Radiosendern in der ganzen Welt z.B. USA\, Europa\, Kanada
  und Australien. Die Band hat viel Live-Erfahrung aus ganz Europa\, wo sie
  mehrere haben Touren unter dem Gürtel. 2018 waren Chris Gray &amp\; The 
 BlueSpand Headliner bei North City Jazz n Blues Mitrovica (Kosovo)\, Blues
  Fest Gdynia (Polen)\, R’n’B-Festival Ropaži (Lettland)\, Jazz n Blue
 s Meeting Dinslaken (Deutschland) sowie Skopje MK Bluesfestival (Mazedonie
 n) und viele mehr.\n\nwww.bluespand.dk\n\nChris Grey: Lead-Gesang/Gitarre\
 ,\n\nKasper Lauersen: Bass/Gesang\,\n\nLars von TrommenStick: Schlagzeug/G
 esang
ATTACH;FMTTYPE=image/jpeg:https://kneipenkonzerte.de/wp-content/uploads/20
 22/05/chris_grey_001_.jpg
CATEGORIES:Blues
LOCATION:Club am Donnerstag / Happy Billard\, Kurt-A.-Körber-Chaussee 73 \
 , Hamburg Bergedorf\, Hamburg\, 21033 \, Hamburg\, Deutschland
GEO:53.489083;10.192384
X-APPLE-STRUCTURED-LOCATION;VALUE=URI;X-ADDRESS=Kurt-A.-Körber-Chaussee 73
  \, Hamburg Bergedorf\, Hamburg\, 21033 \, Hamburg\, Deutschland;X-APPLE-R
 ADIUS=100;X-TITLE=Club am Donnerstag / Happy Billard:geo:53.489083,10.1923
 84
END:VEVENT
BEGIN:VTIMEZONE
TZID:Europe/Berlin
X-LIC-LOCATION:Europe/Berlin
BEGIN:DAYLIGHT
DTSTART:20220327T030000
TZOFFSETFROM:+0100
TZOFFSETTO:+0200
TZNAME:CEST
END:DAYLIGHT
END:VTIMEZONE
END:VCALENDAR