BEGIN:VCALENDAR
VERSION:2.0
PRODID:-//wp-events-plugin.com//7.2.3.1//EN
TZID:Europe/Berlin
X-WR-TIMEZONE:Europe/Berlin
BEGIN:VEVENT
UID:4073@kneipenkonzerte.de
DTSTART;TZID=Europe/Berlin:20221111T200000
DTEND;TZID=Europe/Berlin:20221111T220000
DTSTAMP:20220617T124215Z
URL:https://kneipenkonzerte.de/veranstaltungen/colbinger-mambo-rostock/
SUMMARY:Colbinger
DESCRIPTION:Colbinger – Singer &amp\; Songwriter. \nSein Musikstil ist Ro
 ck\, in dem Elemente aus Folk\, Funk und Country beheimatet sind. Er ist 
 ein Songpoet\, der die Höhen und Tiefen\, das Licht und die Schatten in w
 undervolle Worte zu kleiden vermag. Seine Songs nennt er Erinnerer und Gef
 ährten\, um das Leben zu erschließen und sich ästhetische Weltzugänge 
 zu schaffen. Musik\, so Colbinger\, begeistert\, motiviert und inspiriert.
  Er schreibt Songs und Gedichte\, die seine Hörer und Leser sehr tief ber
 ühren\, und auf der Bühne beseelt gebettet durch die funky Akustikgitarr
 e trägt seine einzigartige Stimme die Worte mal sehnsüchtig\, mal liebev
 oll\, oder auch expressiv nachdenklich direkt in das Herz seiner Zuhörer.
  Mit seiner natürlichen Art\, mit den poetisch berührenden Texten\, musi
 kalischer Freude und mit seinem Gespür für die Energie des Augenblicks b
 egeistert er sein Publikum. So auch Colbinger´s Leitsatz: "Machen wir uns
  auf und bleiben wir dran."
ATTACH;FMTTYPE=image/jpeg:https://kneipenkonzerte.de/wp-content/uploads/20
 19/11/colbinger.jpg
CATEGORIES:Folk,Singer/Songwriter
LOCATION:Irish Pup Mambo No. One\, Fritz-Reuter-Straße 39\, Rostock\, Meck
 lenburg-Vorpommern\, 18057\, Rostock\, Deutschland
GEO:54.0868966;12.111400799999956
X-APPLE-STRUCTURED-LOCATION;VALUE=URI;X-ADDRESS=Fritz-Reuter-Straße 39\, R
 ostock\, Mecklenburg-Vorpommern\, 18057\, Rostock\, Deutschland;X-APPLE-RA
 DIUS=100;X-TITLE=Irish Pup Mambo No. One:geo:54.0868966,12.111400799999956
END:VEVENT
BEGIN:VTIMEZONE
TZID:Europe/Berlin
X-LIC-LOCATION:Europe/Berlin
BEGIN:STANDARD
DTSTART:20221030T020000
TZOFFSETFROM:+0200
TZOFFSETTO:+0100
TZNAME:CET
END:STANDARD
END:VTIMEZONE
END:VCALENDAR