BEGIN:VCALENDAR
VERSION:2.0
PRODID:-//wp-events-plugin.com//7.2.3.1//EN
TZID:Europe/Berlin
X-WR-TIMEZONE:Europe/Berlin
BEGIN:VEVENT
UID:627@kneipenkonzerte.de
DTSTART;TZID=Europe/Berlin:20181201T210000
DTEND;TZID=Europe/Berlin:20181201T210000
DTSTAMP:20180930T160942Z
URL:https://kneipenkonzerte.de/veranstaltungen/dad-horse-experience-bielef
 eld/
SUMMARY:Dad Horse Experience
DESCRIPTION:Dad Horse Experience\nKeller Gospel or European Underground wit
 h American Roots\nDad Horse Ottn gibt schon zu vierten Mal jenen Gospel in
  der Extra Blues Bar zum Besten\, der nicht in Kirchen und Kathe­dralen g
 esungen wird\, sondern in den dunk­len und gottverlassen Kellergewöl­be
 n der Seele\, dort wo das Licht am nö­tigsten ge­braucht wird. Passt ja
  auch prächtig...\nEtwas neues gibt es auch zu berichten\, Dad Horse war 
 die­ses Jahr im Studio und hat sei­ne neue CD „Eating Meatballs On A B
 lood-Stained Mattress In A Huggy Bear Motel“ aufge­nommen. Wir sind ges
 pannt.
ATTACH;FMTTYPE=image/jpeg:https://kneipenkonzerte.de/wp-content/uploads/20
 16/11/Dad-Horse-001-klein.jpg
CATEGORIES:Americana,Gospel
LOCATION:Extra Blues Bar\, Siekerstraße 20\, Bielefeld\, NRW\, 33602\, Ost
 westfalen\, Deutschland
GEO:52.0164205;8.531002599999965
X-APPLE-STRUCTURED-LOCATION;VALUE=URI;X-ADDRESS=Siekerstraße 20\, Bielefel
 d\, NRW\, 33602\, Ostwestfalen\, Deutschland;X-APPLE-RADIUS=100;X-TITLE=Ex
 tra Blues Bar:geo:52.0164205,8.531002599999965
END:VEVENT
BEGIN:VTIMEZONE
TZID:Europe/Berlin
X-LIC-LOCATION:Europe/Berlin
BEGIN:STANDARD
DTSTART:20181028T020000
TZOFFSETFROM:+0200
TZOFFSETTO:+0100
TZNAME:CET
END:STANDARD
END:VTIMEZONE
END:VCALENDAR