BEGIN:VCALENDAR
VERSION:2.0
PRODID:-//wp-events-plugin.com//7.2.3.1//EN
TZID:Europe/Berlin
X-WR-TIMEZONE:Europe/Berlin
BEGIN:VEVENT
UID:629@kneipenkonzerte.de
DTSTART;TZID=Europe/Berlin:20161125T200000
DTEND;TZID=Europe/Berlin:20161125T230000
DTSTAMP:20161113T173644Z
URL:https://kneipenkonzerte.de/veranstaltungen/dad-horse-experience-rosenh
 eim/
SUMMARY:Dad Horse Experience
DESCRIPTION:Keller Gospel or European Underground with American Roots\nDad 
 Horse Ottn gibt jenen Gospel zum Besten\, der nicht in Kirchen und Kathe­
 dralen gesungen wird\, sondern in den dunk­len und gottverlassen Kellerge
 wöl­ben der Seele\, dort wo das Licht am nö­tigsten ge­braucht wird. 
 Passt ja auch prächtig...\nEtwas neues gibt es auch zu berichten\, Dad Ho
 rse war die­ses Jahr im Studio und hat sei­ne neue CD „Eating Meatball
 s On A Blood-Stained Mattress In A Huggy Bear Motel“ aufge­nommen.
ATTACH;FMTTYPE=image/jpeg:https://kneipenkonzerte.de/wp-content/uploads/20
 16/11/Dad-Horse-001-klein.jpg
CATEGORIES:Americana,Gospel
LOCATION:Astakneipe\, Hubertusstr.1  \, Rosenheim\, Bayern\, 83022 \, Münc
 hen\, Deutschland
GEO:47.8552624;12.110210400000028
X-APPLE-STRUCTURED-LOCATION;VALUE=URI;X-ADDRESS=Hubertusstr.1  \, Rosenheim
 \, Bayern\, 83022 \, München\, Deutschland;X-APPLE-RADIUS=100;X-TITLE=Ast
 akneipe:geo:47.8552624,12.110210400000028
END:VEVENT
BEGIN:VTIMEZONE
TZID:Europe/Berlin
X-LIC-LOCATION:Europe/Berlin
BEGIN:STANDARD
DTSTART:20161030T020000
TZOFFSETFROM:+0200
TZOFFSETTO:+0100
TZNAME:CET
END:STANDARD
END:VTIMEZONE
END:VCALENDAR