BEGIN:VCALENDAR
VERSION:2.0
PRODID:-//wp-events-plugin.com//7.2.3.1//EN
TZID:Europe/Berlin
X-WR-TIMEZONE:Europe/Berlin
BEGIN:VEVENT
UID:4961@kneipenkonzerte.de
DTSTART;TZID=Europe/Berlin:20220616T200000
DTEND;TZID=Europe/Berlin:20220616T220000
DTSTAMP:20220525T132839Z
URL:https://kneipenkonzerte.de/veranstaltungen/daemmerungsession/
SUMMARY:Dämmerungsession
DESCRIPTION:Gemütliches Gettogether am Lagerfeuer mit Unplugged Musik von 
 unserer Hausband eight4ty.Nine!\n\nBeginn: 20:00 Uhr*\nEinlass vor Ort nur
  solange der Platz reicht!\n*findet nur bei gutem Wetter statt
ATTACH;FMTTYPE=image/jpeg:https://kneipenkonzerte.de/wp-content/uploads/20
 22/05/Plakat-2022-Quadratisch-4-2.jpg
CATEGORIES:Rock
LOCATION:HeimatRock\, Neckarstraße 62\, Ladenburg\, Baden-Württemberg/ De
 utschland\, 68526\, Stuttgart\, Deutschland
GEO:49.46255;8.609516
X-APPLE-STRUCTURED-LOCATION;VALUE=URI;X-ADDRESS=Neckarstraße 62\, Ladenbur
 g\, Baden-Württemberg/ Deutschland\, 68526\, Stuttgart\, Deutschland;X-AP
 PLE-RADIUS=100;X-TITLE=HeimatRock:geo:49.46255,8.609516
END:VEVENT
BEGIN:VTIMEZONE
TZID:Europe/Berlin
X-LIC-LOCATION:Europe/Berlin
BEGIN:DAYLIGHT
DTSTART:20220327T030000
TZOFFSETFROM:+0100
TZOFFSETTO:+0200
TZNAME:CEST
END:DAYLIGHT
END:VTIMEZONE
END:VCALENDAR