BEGIN:VCALENDAR
VERSION:2.0
PRODID:-//wp-events-plugin.com//7.2.3.1//EN
TZID:Europe/Berlin
X-WR-TIMEZONE:Europe/Berlin
BEGIN:VEVENT
UID:594@kneipenkonzerte.de
DTSTART;TZID=Europe/Berlin:20161112T210000
DTEND;TZID=Europe/Berlin:20161112T210000
DTSTAMP:20161013T221747Z
URL:https://kneipenkonzerte.de/veranstaltungen/daily-thompson-support-dime
 nsion-shifter/
SUMMARY:Daily Thompson (Support: Dimension Shifter)
DESCRIPTION:„Unfuzzbar“ könnte man als Motto der drei Soundvisionäre 
 von Daily Thompson stehen lassen! Persönliche Einflüsse aus Stoner\, Gru
 nge und dem gewissen Groove dazwischen werden zu einem völlig übersteuer
 ten\, extrem fudgigen Superfuzz-Bigmuff.\nGitarre\, Bass\, Schlagzeug. Pro
 ben – Aufnehmen – Shows spielen!\nAus dieser Mentalität\, musikalisch
 er Spielfreude und der dazugehörigen Begeisterung für absoluten Wahnsinn
  gründete sich Ende 2012 die Band “Daily Thompson“. Die live eingespi
 elten Aufnahmen lassen die für Daily Thompson üblichen Fuzz-\, WahWah- u
 nd Distortion-Attacken roh und mit einer Ehrlichkeit rüberkommen\, dass m
 an der Band aus Dortmund anmerkt: beim Sound werden keine Kompromisse gema
 cht!\n\nDen Support macht die Karlsru­her Heavy Rock Band Dimension Shift
 er.
ATTACH;FMTTYPE=image/jpeg:https://kneipenkonzerte.de/wp-content/uploads/20
 16/10/Daily_Thompson_klein.jpg
CATEGORIES:Rock
LOCATION:Extra Blues Bar\, Siekerstraße 20\, Bielefeld\, NRW\, 33602\, Ost
 westfalen\, Deutschland
GEO:52.0164205;8.531002599999965
X-APPLE-STRUCTURED-LOCATION;VALUE=URI;X-ADDRESS=Siekerstraße 20\, Bielefel
 d\, NRW\, 33602\, Ostwestfalen\, Deutschland;X-APPLE-RADIUS=100;X-TITLE=Ex
 tra Blues Bar:geo:52.0164205,8.531002599999965
END:VEVENT
BEGIN:VTIMEZONE
TZID:Europe/Berlin
X-LIC-LOCATION:Europe/Berlin
BEGIN:STANDARD
DTSTART:20161030T020000
TZOFFSETFROM:+0200
TZOFFSETTO:+0100
TZNAME:CET
END:STANDARD
END:VTIMEZONE
END:VCALENDAR