BEGIN:VCALENDAR
VERSION:2.0
PRODID:-//wp-events-plugin.com//7.2.3.1//EN
TZID:Europe/Berlin
X-WR-TIMEZONE:Europe/Berlin
BEGIN:VEVENT
UID:7269@kneipenkonzerte.de
DTSTART;TZID=Europe/Berlin:20260824T190000
DTEND;TZID=Europe/Berlin:20260824T223000
DTSTAMP:20250926T130602Z
URL:https://kneipenkonzerte.de/veranstaltungen/darrag-odea-und-dave-clancy
 /
SUMMARY:Darrag O’Dea und Dave Clancy
DESCRIPTION:Zwei irische Singer-Songwriter. Darragh O’Dea und Dave Clancy
  erzählen mit Stimme und Gitarre von Sehnsucht\, Erinnerung und Hoffnung.
  Leise und nah. Am 24. August 2026 im Filou Steinhude. Jetzt vormerken\n\n
 Am Montag\, den 24. August 2026\, öffnet das Filou Steinhude die Türen f
 ür einen besonderen Abend mit zwei Ausnahmetalenten: Darragh O’Dea aus 
 Irland und Dave Clancy\, ebenfalls Singer-Songwriter aus Galway.\n\nDarrag
 h O’Dea verwebt in seinen Liedern Erinnerungen an Heimat\, Verlust und 
 Liebe. Sein Debüt Tilly &amp\; The Postmaster ist ein Brief an Irland –
  absurd und zärtlich\, voller Humor und Trauer\, getragen von seiner Stim
 me und Geschichten\, die nahe gehen.\n\nDave Clancy präsentiert akustisc
 hen Folk mit feiner Finger-Gitarre und nachdenklichen Texten. Sein Debüt 
 The Path fand Gehör als Album der Woche bei BBC Radio Ulster. Sein neues 
 Album Live Our Own Dream wurde 2025 veröffentlicht und zeigt seine klangs
 tarke Weiterentwicklung
ATTACH;FMTTYPE=image/jpeg:https://kneipenkonzerte.de/wp-content/uploads/20
 25/09/darraghodea_concert.webp
CATEGORIES:Folk
LOCATION:Filou - Die Kneipe.\, Bleichenstr. 9\, Steinhude\, Niedersachsen\,
  31515\, Hannover\, Deutschland
GEO:52.45768;9.36212
X-APPLE-STRUCTURED-LOCATION;VALUE=URI;X-ADDRESS=Bleichenstr. 9\, Steinhude\
 , Niedersachsen\, 31515\, Hannover\, Deutschland;X-APPLE-RADIUS=100;X-TITL
 E=Filou - Die Kneipe.:geo:52.45768,9.36212
END:VEVENT
BEGIN:VTIMEZONE
TZID:Europe/Berlin
X-LIC-LOCATION:Europe/Berlin
BEGIN:DAYLIGHT
DTSTART:20260329T030000
TZOFFSETFROM:+0100
TZOFFSETTO:+0200
TZNAME:CEST
END:DAYLIGHT
END:VTIMEZONE
END:VCALENDAR