BEGIN:VCALENDAR
VERSION:2.0
PRODID:-//wp-events-plugin.com//7.2.3.1//EN
TZID:Europe/Berlin
X-WR-TIMEZONE:Europe/Berlin
BEGIN:VEVENT
UID:4055@kneipenkonzerte.de
DTSTART;TZID=Europe/Berlin:20200217T200000
DTEND;TZID=Europe/Berlin:20200217T220000
DTSTAMP:20200120T120622Z
URL:https://kneipenkonzerte.de/veranstaltungen/depui-oldenburg-2/
SUMMARY:Depui
DESCRIPTION:Vom Verkaufen der Seele\, von der eigenen Bestimmung\, von Hoff
 nung\, vom Licht\, von so manchen Schicksalsschlägen\, vom Hinfallen und 
 Aufstehen singt der Norweger und er singt eindrucksvoll.\nIn Schlichtheit 
 der Wortwahl ausdrucksstark auf den Punkt gebracht\, beschreibt er Szenen 
 des Scheiterns und malt Bilder des Überwindens bis hin zu „alten Kinder
 träumen“ einmal ein König sein zu wollen\, der alles gut macht.\nNorwe
 gen ist und bleibt ein ausgezeichneter Musiklieferant und das können nun 
 Musikliebhaber ein weiteres Mal erleben! Depui kommt wieder nach Deutschla
 nd.\n\nDie Musik von Depui ist inspiriert von französischen Chansons\, Ba
 lkanrhythmen und sogar mexikanischen Klängen. Ihre Lieder sind ein bunter
  Mix von gefühlvollen Balladen und handgemachter ehrlicher Folkmusic.\n\n
 In Norwegen und Frankreich haben sich Depui bereits einen Namen gemacht. I
 hr Song „King“ wurde 8 Wochen bei einem der größten Radiosender „N
 RK P1“ und „Start Healing“ sogar 19 Wochen bei „Radio Sør geliste
 t. Ihr Album „Manhood“ wurde mit 8 von 10 möglichen Punkten der norwe
 gischen Presse notiert. Zwei ihrer Lieder wurden während der Olympischen 
 Spiele gespielt.
ATTACH;FMTTYPE=image/jpeg:https://kneipenkonzerte.de/wp-content/uploads/20
 20/01/IMG_4209-kneipen-4.jpg
CATEGORIES:Folk,Folk-Rock,Rock
LOCATION:Bei Beppo\, Auguststraße 57\, Oldenburg\, Niedersachsen\, 26121\,
  Bremen\, Deutschland
X-APPLE-STRUCTURED-LOCATION;VALUE=URI;X-ADDRESS=Auguststraße 57\, Oldenbur
 g\, Niedersachsen\, 26121\, Bremen\, Deutschland;X-APPLE-RADIUS=100;X-TITL
 E=Bei Beppo:geo:0,0
END:VEVENT
BEGIN:VTIMEZONE
TZID:Europe/Berlin
X-LIC-LOCATION:Europe/Berlin
BEGIN:STANDARD
DTSTART:20191027T020000
TZOFFSETFROM:+0200
TZOFFSETTO:+0100
TZNAME:CET
END:STANDARD
END:VTIMEZONE
END:VCALENDAR