BEGIN:VCALENDAR
VERSION:2.0
PRODID:-//wp-events-plugin.com//7.2.3.1//EN
TZID:Europe/Berlin
X-WR-TIMEZONE:Europe/Berlin
BEGIN:VEVENT
UID:577@kneipenkonzerte.de
DTSTART;TZID=Europe/Berlin:20161008T193000
DTEND;TZID=Europe/Berlin:20161008T230000
DTSTAMP:20161003T135922Z
URL:https://kneipenkonzerte.de/veranstaltungen/die-klampfkumpel-mainz/
SUMMARY:die klampfkumpel
DESCRIPTION:Die Klampfkumpel Adrian Haack und Hannes Mehner wischen den Sta
 ub vom angegrauten Etikett ‚Liedermacher‘: Zwei Gitarren -zwei Stimmen
  – zwei hervorragende Freunde: Mal absolut skurril und komisch\, mal nac
 hdenklich\, nostalgisch und melancholisch. Die Klampfkumpel auf der ‚Man
 isch-Kreativ Tour‘ – das sind lange Abende voller losgelöstem Lachen\
 , sehnsüchtiger Träumerei und jeder Menge authentischer Unterhaltung.
ATTACH;FMTTYPE=image/jpeg:https://kneipenkonzerte.de/wp-content/uploads/20
 16/10/klampfkumpel.jpg
CATEGORIES:Singer/Songwriter
LOCATION:Bukafski Buchhandlung und Café\, Kurfürstenstrasse\, 9 \, Mainz\
 , Rheinland-Pfalz\, 55118 \, Frankfurt\, Deutschland
GEO:50.0058525;8.259097099999963
X-APPLE-STRUCTURED-LOCATION;VALUE=URI;X-ADDRESS=Kurfürstenstrasse\, 9 \, M
 ainz\, Rheinland-Pfalz\, 55118 \, Frankfurt\, Deutschland;X-APPLE-RADIUS=1
 00;X-TITLE=Bukafski Buchhandlung und Café:geo:50.0058525,8.25909709999996
 3
END:VEVENT
BEGIN:VTIMEZONE
TZID:Europe/Berlin
X-LIC-LOCATION:Europe/Berlin
BEGIN:DAYLIGHT
DTSTART:20160327T030000
TZOFFSETFROM:+0100
TZOFFSETTO:+0200
TZNAME:CEST
END:DAYLIGHT
END:VTIMEZONE
END:VCALENDAR