BEGIN:VCALENDAR
VERSION:2.0
PRODID:-//wp-events-plugin.com//7.2.3.1//EN
TZID:Europe/Berlin
X-WR-TIMEZONE:Europe/Berlin
BEGIN:VEVENT
UID:578@kneipenkonzerte.de
DTSTART;TZID=Europe/Berlin:20161009T193000
DTEND;TZID=Europe/Berlin:20161009T230000
DTSTAMP:20161003T140431Z
URL:https://kneipenkonzerte.de/veranstaltungen/die-klampfkumpel-paderborn/
SUMMARY:die klampfkumpel - Liedermacherduo
DESCRIPTION:Die Klampfkumpel Adrian Haack und Hannes Mehner wischen den Sta
 ub vom angegrauten Etikett ‚Liedermacher‘: Zwei Gitarren -zwei Stimmen
  – zwei hervorragende Freunde: Mal absolut skurril und komisch\, mal nac
 hdenklich\, nostalgisch und melancholisch. Die Klampfkumpel auf der ‚Man
 isch-Kreativ Tour‘ – das sind lange Abende voller losgelöstem Lachen\
 , sehnsüchtiger Träumerei und jeder Menge authentischer Unterhaltung.
ATTACH;FMTTYPE=image/jpeg:https://kneipenkonzerte.de/wp-content/uploads/20
 16/10/klampfkumpel.jpg
CATEGORIES:Singer/Songwriter
LOCATION:tuba\, Kasselerstrasse 26\, Paderborn\, NRW\, 33098 \, Ostwestfale
 n\, Deutschland
GEO:51.7175737;8.75835470000004
X-APPLE-STRUCTURED-LOCATION;VALUE=URI;X-ADDRESS=Kasselerstrasse 26\, Paderb
 orn\, NRW\, 33098 \, Ostwestfalen\, Deutschland;X-APPLE-RADIUS=100;X-TITLE
 =tuba:geo:51.7175737,8.75835470000004
END:VEVENT
BEGIN:VTIMEZONE
TZID:Europe/Berlin
X-LIC-LOCATION:Europe/Berlin
BEGIN:DAYLIGHT
DTSTART:20160327T030000
TZOFFSETFROM:+0100
TZOFFSETTO:+0200
TZNAME:CEST
END:DAYLIGHT
END:VTIMEZONE
END:VCALENDAR