BEGIN:VCALENDAR
VERSION:2.0
PRODID:-//wp-events-plugin.com//7.2.3.1//EN
TZID:Europe/Berlin
X-WR-TIMEZONE:Europe/Berlin
BEGIN:VEVENT
UID:4060@kneipenkonzerte.de
DTSTART;TZID=Europe/Berlin:20200303T200000
DTEND;TZID=Europe/Berlin:20200303T230000
DTSTAMP:20200123T111831Z
URL:https://kneipenkonzerte.de/veranstaltungen/dienstag-is-damensauna/
SUMMARY:Dienstag is Damensauna
DESCRIPTION:Jubiläumstour\nDienstag is Damensauna\, dass sind Murphy Islan
 d und Stefan Mayor.\nAuf ihrer Jubiläums Tour kommen die Beiden Musiker n
 ach Dresden.\nSeit schon fast 10 Jahren Touren die beiden Musiker durch di
 e Clubs und haben viele großartige Konzerte gespielt.Eine Doppelhals Gita
 rre\, ein Stylofone und eine Schreibmaschine. Das sind nur einige Instrume
 nte mit denen die Band Dienstag is Damensauna ihre Songs aus für Bühne b
 ringt.\nDie Songs reißen einen mit und bleiben im Gedächtnis\, die Texte
  stammen zu 100 % aus der Feder der Beiden\, da ist nichts kopiert.\nDie M
 usik bewegt sich zwischen Pop\, Rock und Liedermacher.\nMittlerweile werde
 n die Songs der Band auch in den verschiedensten Radiosendern gespielt.\nO
 b im Wohnzimmer\, Club oder auf der großen Bühne\, die beiden Musiker ne
 hmen das Publikum mit und bereiten allen eine tolle Musikalische Reise.\nB
 isher wurden zwei Alben veröffentlicht\, 2018 ist der Band mit dem Song\n
 \,\,Volksfahrräder\,\, tatsächlich so was wie ein Hit gelungen.
ATTACH;FMTTYPE=image/jpeg:https://kneipenkonzerte.de/wp-content/uploads/20
 20/01/FB_IMG_1562073044426.jpg
CATEGORIES:Singer/Songwriter
LOCATION:Katy's Garage\, Alaunstraße 48\, \, Dresden\, Sachsen\, 01099 \, 
 Dresden\, Deutschland
GEO:51.066653;13.751647
X-APPLE-STRUCTURED-LOCATION;VALUE=URI;X-ADDRESS=Alaunstraße 48\, \, Dresde
 n\, Sachsen\, 01099 \, Dresden\, Deutschland;X-APPLE-RADIUS=100;X-TITLE=Ka
 ty's Garage:geo:51.066653,13.751647
END:VEVENT
BEGIN:VTIMEZONE
TZID:Europe/Berlin
X-LIC-LOCATION:Europe/Berlin
BEGIN:STANDARD
DTSTART:20191027T020000
TZOFFSETFROM:+0200
TZOFFSETTO:+0100
TZNAME:CET
END:STANDARD
END:VTIMEZONE
END:VCALENDAR