BEGIN:VCALENDAR
VERSION:2.0
PRODID:-//wp-events-plugin.com//7.2.3.1//EN
TZID:Europe/Berlin
X-WR-TIMEZONE:Europe/Berlin
BEGIN:VEVENT
UID:2265@kneipenkonzerte.de
DTSTART;TZID=Europe/Berlin:20180927T200000
DTEND;TZID=Europe/Berlin:20180927T220000
DTSTAMP:20180805T212115Z
URL:https://kneipenkonzerte.de/veranstaltungen/don-alder-einbeck/
SUMMARY:Don Alder
DESCRIPTION:solo show\, 2 Sets á 45 Min. mit einer 15-20 min. Pause\nDon s
 pielt seine eigenen Kompositionen\, ein Mix aus Jazz\, Folk\, Roots\, Blue
 s\, Bluegrass.\nUnd er wird mehrere Gitarren mitbringen\, u.a. wieder die 
 Harpguitar.
ATTACH;FMTTYPE=image/jpeg:https://kneipenkonzerte.de/wp-content/uploads/20
 18/08/warburg02.jpg
CATEGORIES:Bluegrass,Blues,Folk,Singer/Songwriter
LOCATION:Tangobrücke\, Lange Brücke 1\,\,  Einbeck \, Niedersachsen\, 375
 74\, Göttingen\, Deutschland
GEO:51.8180984;9.868374899999935
X-APPLE-STRUCTURED-LOCATION;VALUE=URI;X-ADDRESS=Lange Brücke 1\,\,  Einbec
 k \, Niedersachsen\, 37574\, Göttingen\, Deutschland;X-APPLE-RADIUS=100;X
 -TITLE=Tangobrücke:geo:51.8180984,9.868374899999935
END:VEVENT
BEGIN:VTIMEZONE
TZID:Europe/Berlin
X-LIC-LOCATION:Europe/Berlin
BEGIN:DAYLIGHT
DTSTART:20180325T030000
TZOFFSETFROM:+0100
TZOFFSETTO:+0200
TZNAME:CEST
END:DAYLIGHT
END:VTIMEZONE
END:VCALENDAR