BEGIN:VCALENDAR
VERSION:2.0
PRODID:-//wp-events-plugin.com//7.2.3.1//EN
TZID:Europe/Berlin
X-WR-TIMEZONE:Europe/Berlin
BEGIN:VEVENT
UID:2267@kneipenkonzerte.de
DTSTART;TZID=Europe/Berlin:20190426T200000
DTEND;TZID=Europe/Berlin:20190426T230000
DTSTAMP:20180805T213541Z
URL:https://kneipenkonzerte.de/veranstaltungen/don-alder-husum/
SUMMARY:Don Alder
DESCRIPTION:Der kanadische Gitarrenvirtuose Don Alder schreibt seine Songs 
 und Texte selbst und deckt dabei die Genre Jazz\, Folk\, Roots\, Blues\, B
 luegrass ab. Durch seine spezielle Fingerstyle- und Perkussionstechnik kli
 ngen seine Akustikgitarren wie eine Vier-Mann-Band. Don ist auch einer der
  wenigen professionellen Harpguitar-Spieler auf der Welt und die Harpguita
 r bringt er dann natürlich auch zu seinen Konzerten mit.\nFür seine Konz
 erte verspricht Don: „Sie werden überrascht sein\, was man mit einer Ak
 ustikgitarre alles machen kann.“
ATTACH;FMTTYPE=image/jpeg:https://kneipenkonzerte.de/wp-content/uploads/20
 17/05/don-alder-livemusik-filou-steinhude.jpg
CATEGORIES:Bluegrass,Blues,Folk
LOCATION:Speicher Husum e.V.\, Hafenstr. 17  \, Husum\, Schleswig-Holstein\
 , 25813\, Deutschland
GEO:54.475122;9.047533
X-APPLE-STRUCTURED-LOCATION;VALUE=URI;X-ADDRESS=Hafenstr. 17  \, Husum\, Sc
 hleswig-Holstein\, 25813\, Deutschland;X-APPLE-RADIUS=100;X-TITLE=Speicher
  Husum e.V.:geo:54.475122,9.047533
END:VEVENT
BEGIN:VTIMEZONE
TZID:Europe/Berlin
X-LIC-LOCATION:Europe/Berlin
BEGIN:DAYLIGHT
DTSTART:20190331T030000
TZOFFSETFROM:+0100
TZOFFSETTO:+0200
TZNAME:CEST
END:DAYLIGHT
END:VTIMEZONE
END:VCALENDAR