BEGIN:VCALENDAR
VERSION:2.0
PRODID:-//wp-events-plugin.com//7.2.3.1//EN
TZID:Europe/Berlin
X-WR-TIMEZONE:Europe/Berlin
BEGIN:VEVENT
UID:2266@kneipenkonzerte.de
DTSTART;TZID=Europe/Berlin:20180928T200000
DTEND;TZID=Europe/Berlin:20180928T220000
DTSTAMP:20180828T114718Z
URL:https://kneipenkonzerte.de/veranstaltungen/don-alder-in-concert-suhl/
SUMMARY:Don Alder
DESCRIPTION:Solo concert - 2018 EU Fall tour\nDon Alder aus Vancouver\, BC\
 , Kanada ist ein preisgekrönter Akustikgitarrist/Singer/Songwriter\, der 
 ausschließlich eigene Songs spielt. Sein musikalisches Spektrum reicht da
 bei von Jazz\, Folk\, über Roots\, bis Blues und Bluegrass. Zur Zeit tour
 t er noch mit seiner aktuellen CD "Armed &amp\; Dangerous"\, aber ein neue
 s EP ist bereits in Vorbereitung.\n\nDurch Dons spezielle Fingerstyle- und
  Perkussionstechnik klingt seine Akustikgitarre wie eine Vier-Mann-Band. D
 on ist auch einer der wenigen professionellen Harpguitar-Spieler auf der W
 elt und die Harpguitar ist auch auf dieser Tour wieder mit im Gepäck.
ATTACH;FMTTYPE=image/jpeg:https://kneipenkonzerte.de/wp-content/uploads/20
 17/10/krefeld01-2.jpg
CATEGORIES:Bluegrass,Blues,Folk,Singer/Songwriter
LOCATION:Kulturbaustelle\, Friedrich-König-Straße 35\, \, Suhl\, Thüring
 en\, 98527 \, Erfurt\, Deutschland
GEO:50.6127962;10.694996199999991
X-APPLE-STRUCTURED-LOCATION;VALUE=URI;X-ADDRESS=Friedrich-König-Straße 35
 \, \, Suhl\, Thüringen\, 98527 \, Erfurt\, Deutschland;X-APPLE-RADIUS=100
 ;X-TITLE=Kulturbaustelle:geo:50.6127962,10.694996199999991
END:VEVENT
BEGIN:VTIMEZONE
TZID:Europe/Berlin
X-LIC-LOCATION:Europe/Berlin
BEGIN:DAYLIGHT
DTSTART:20180325T030000
TZOFFSETFROM:+0100
TZOFFSETTO:+0200
TZNAME:CEST
END:DAYLIGHT
END:VTIMEZONE
END:VCALENDAR