BEGIN:VCALENDAR
VERSION:2.0
PRODID:-//wp-events-plugin.com//7.2.3.1//EN
TZID:Europe/Berlin
X-WR-TIMEZONE:Europe/Berlin
BEGIN:VEVENT
UID:4962@kneipenkonzerte.de
DTSTART;TZID=Europe/Berlin:20220617T193000
DTEND;TZID=Europe/Berlin:20220617T213000
DTSTAMP:20220525T132934Z
URL:https://kneipenkonzerte.de/veranstaltungen/dr-wolle-the-fearful-bears/
SUMMARY:Dr. Wolle & the fearful bears
DESCRIPTION:Open Air Konzert\n...schmalzt die Tolle und "coat your Petties"
 !\nSie spielen Rock'n'Roll und Rockabilly Classics aus den 50er/60er Jahre
 n:\nEddie Cochran\, Buddy Holly\, Elvis\, und auch Stray Cats sorgen für 
 "good Vibrations" und lassen kein Tanzbein ruhig... Are you ready to Rock 
 and Roll?! BE THERE!!!\n\nEinlass: 18:30 Uhr\nBeginn: 19:30 Uhr\nEintritt:
  15\,00 €
ATTACH;FMTTYPE=image/jpeg:https://kneipenkonzerte.de/wp-content/uploads/20
 16/05/kneipenkonzert-livemusik-veranstaltung-1.jpg
CATEGORIES:Rock
LOCATION:HeimatRock\, Neckarstraße 62\, Ladenburg\, Baden-Württemberg/ De
 utschland\, 68526\, Stuttgart\, Deutschland
GEO:49.46255;8.609516
X-APPLE-STRUCTURED-LOCATION;VALUE=URI;X-ADDRESS=Neckarstraße 62\, Ladenbur
 g\, Baden-Württemberg/ Deutschland\, 68526\, Stuttgart\, Deutschland;X-AP
 PLE-RADIUS=100;X-TITLE=HeimatRock:geo:49.46255,8.609516
END:VEVENT
BEGIN:VTIMEZONE
TZID:Europe/Berlin
X-LIC-LOCATION:Europe/Berlin
BEGIN:DAYLIGHT
DTSTART:20220327T030000
TZOFFSETFROM:+0100
TZOFFSETTO:+0200
TZNAME:CEST
END:DAYLIGHT
END:VTIMEZONE
END:VCALENDAR