BEGIN:VCALENDAR
VERSION:2.0
PRODID:-//wp-events-plugin.com//7.2.3.1//EN
TZID:Europe/Berlin
X-WR-TIMEZONE:Europe/Berlin
BEGIN:VEVENT
UID:590@kneipenkonzerte.de
DTSTART;TZID=Europe/Berlin:20200411T200000
DTEND;TZID=Europe/Berlin:20200411T220000
DTSTAMP:20191226T175954Z
URL:https://kneipenkonzerte.de/veranstaltungen/eyevory-bremen/
SUMMARY:Eyevory
DESCRIPTION:Eyevory sind seit 2012 eine Bremer Institution und erarbeiteten
  sich mit wechselnden Besetzungen um Jana Frank (Vocals &amp\; Bass) und K
 aja Fischer (Vocals &amp\; Flöte) ein sicheres Standing in der internatio
 nalen Musiklandschaft. Die zwei Leadsängerinnen und die virtuose Flöte\,
  die gemeinsam mit der Gitarre lyrische Melodien übernimmt\, die Verschme
 lzung verschiedener Stilrichtungen aus Rock\, Pop\, Folk und Metal\, sowie
  komplexe Rhythmusgefüge\, unvorhersehbare Taktwechsel und besondere harm
 onische Verbindungen zeichnen die Band Eyevory aus. Eine beachtliche Live
 -Historie\, eine gefeierte Europa-Tour mit der kanadischen Prog-Band „Sa
 ga“ und Support-Shows für Ray Wilson (Ex-Genesis)\, Doro\, Lazuli und M
 anfred Mann‘s Earth Band\, führen Eyevory schließlich zum „Night Of 
 The Prog Festival“ auf der legendären Loreley. Nach dem Debüt „The T
 rue Bequest“ (EP\, 2012) – produziert von Frank Bornemann (Eloy)\, fol
 gen die Alben „Euphobia“ (2013)\, „Inphantasia“ (2016) und „Auro
 ra“ (2019)\, sowie eine Live DVD mit einem Sinfonie Orchester.\n\n&nbsp\
 ;
ATTACH;FMTTYPE=image/jpeg:https://kneipenkonzerte.de/wp-content/uploads/20
 16/10/Eyevory_2016-2-by-volker-wilke.jpg
CATEGORIES:Alternative
LOCATION:Blues-Club Meisenfrei\, Hankenstr. 18\, Bremen\, Bremen\, 28195\, 
 Bremen\, Deutschland
GEO:53.0800985;8.80016790000002
X-APPLE-STRUCTURED-LOCATION;VALUE=URI;X-ADDRESS=Hankenstr. 18\, Bremen\, Br
 emen\, 28195\, Bremen\, Deutschland;X-APPLE-RADIUS=100;X-TITLE=Blues-Club 
 Meisenfrei:geo:53.0800985,8.80016790000002
END:VEVENT
BEGIN:VTIMEZONE
TZID:Europe/Berlin
X-LIC-LOCATION:Europe/Berlin
BEGIN:DAYLIGHT
DTSTART:20200329T030000
TZOFFSETFROM:+0100
TZOFFSETTO:+0200
TZNAME:CEST
END:DAYLIGHT
END:VTIMEZONE
END:VCALENDAR