BEGIN:VCALENDAR
VERSION:2.0
PRODID:-//wp-events-plugin.com//7.2.3.1//EN
TZID:Europe/Berlin
X-WR-TIMEZONE:Europe/Berlin
BEGIN:VEVENT
UID:591@kneipenkonzerte.de
DTSTART;TZID=Europe/Berlin:20170121T210000
DTEND;TZID=Europe/Berlin:20170121T223000
DTSTAMP:20161012T095312Z
URL:https://kneipenkonzerte.de/veranstaltungen/eyevory-grossefehn/
SUMMARY:Eyevory
DESCRIPTION:Inphantasia Tour\nMit ihren zwei gleichberechtigten Leadsänger
 innen und einer klassischen Querflöte\, die im Gegensatz zu Jethro Tull n
 icht ausschließlich als virtuoses Solo-\, sondern auch als liedhaftes Mel
 odieinstrument eingesetzt wird und gemeinsam mit der Gitarre lyrische Melo
 dielinien übernimmt\, hebt sich die vierköpfige Band deutlich von andere
 n Rockgruppen ab. Den progressiven Charakter erhält ihre Musik durch die 
 Verschmelzung verschiedener Stilrichtungen aus Rock\, Pop\, Folk und Metal
 \, sowie durch ihre komplexen Rhythmusgefüge\, unvorhersehbaren Taktwechs
 el und besonderen harmonischen Verbindungen.\n\nMotor der Band ist Sänger
 in und Bassistin Jana Frank\, auf deren sicherem Gespür für starke Melod
 ien und poetische Texte die meisten Songs basieren. Sie ist ein unerschöp
 flicher Quell kreativer Ideen\, die das Image der Band grundlegend prägen
 . Ihr zur Seite steht Kaja Fischer (Gesang\, Flöte\, Keyboards)\, eine Mu
 sikerin mit der Gabe\, einfühlsame Zweitstimmen zu komponieren und sich m
 it ihrer Querflöte tief im Bewusstsein der Konzertbesucher zu verankern. 
 Gitarrist der Band ist David Merz\, der zusammen mit Jana den Großteil de
 r Songs schreibt. Er steuert auf der Bühne auch (ähnlich wie Geddy Lee v
 on Rush) viele Keyboard-Sequenzen mit Orgel-Pedalen bei. Vierter im Bunde 
 ist Schlagzeuger Arne Suter\, der durch sein technisch versiertes und einf
 ühlsames Spiel der Band ihr starkes Rockfundament sichert.\n\nDrei der vi
 er Bandmitglieder fanden bereits 2012 zusammen und können auf eine beacht
 liche Live-Historie zurückblicken\, unter anderem mit Support-Shows für 
 die kanadische Prog-Band Saga\, für Ray Wilson (Ex- Genesis)\, Doro Pesch
  und Manfred Mann‘s Earth Band. Außerdem wurden Eyevory zwei Jahre info
 lge mit dem „Deutschen Rock &amp\; Pop Preis“ als „Beste Progressive
  Band“ ausgezeichnet. Das Debut Album „Euphobia“ (2013) feierte bere
 its große Erfolge. Am 21. Oktober wird das zweite Werk „Inphantasia“ 
 veröffentlicht und hält in jeder einzelnen Note\, was das eindrucksvolle
  Cover-Artwork und die märchenhafte Konzeptgeschichte ankündigen.
ATTACH;FMTTYPE=image/jpeg:https://kneipenkonzerte.de/wp-content/uploads/20
 16/10/Eyevory_2016-2-by-volker-wilke.jpg
CATEGORIES:Alternative
LOCATION:Rock-Kneipe Schlappohr\, Kanalstraße Nord 255\, Großefehn\, Nied
 ersachsen\, 26629 \, Ostfriesland\, Deutschland
GEO:53.41992;7.683589999999981
X-APPLE-STRUCTURED-LOCATION;VALUE=URI;X-ADDRESS=Kanalstraße Nord 255\, Gro
 ßefehn\, Niedersachsen\, 26629 \, Ostfriesland\, Deutschland;X-APPLE-RADI
 US=100;X-TITLE=Rock-Kneipe Schlappohr:geo:53.41992,7.683589999999981
END:VEVENT
BEGIN:VTIMEZONE
TZID:Europe/Berlin
X-LIC-LOCATION:Europe/Berlin
BEGIN:STANDARD
DTSTART:20161030T020000
TZOFFSETFROM:+0200
TZOFFSETTO:+0100
TZNAME:CET
END:STANDARD
END:VTIMEZONE
END:VCALENDAR