BEGIN:VCALENDAR
VERSION:2.0
PRODID:-//wp-events-plugin.com//7.2.3.1//EN
TZID:Europe/Berlin
X-WR-TIMEZONE:Europe/Berlin
BEGIN:VEVENT
UID:1911@kneipenkonzerte.de
DTSTART;TZID=Europe/Berlin:20180908T200000
DTEND;TZID=Europe/Berlin:20180908T223000
DTSTAMP:20180630T150159Z
URL:https://kneipenkonzerte.de/veranstaltungen/faehrmann-bremen/
SUMMARY:Fährmann (DE)
DESCRIPTION:FÄHRMANN – ein Sänger und Liederschreiber\, der beweist\, d
 ass es noch möglich ist\, wertvolle Texte mit guter\, handgemachter Musik
  zu paaren. Umhüllt und getragen von verdichteter Poesie und feinfühlige
 r Musikalität\, gestaltet er selten gewordene und unvergleichliche Konzer
 tabende. Man könnte es sich einfach machen und schlicht erklären\, dass 
 es sich bei ihm um einen Liedermacher handelt. Falsch wäre es nicht. Aber
  es ist nicht ausreichend. Gemeinsam mit seinem Produzenten Karl Neukauf i
 st er derzeit auf Record-Release-Tour.\n\nIn „stürmischen Zeiten“ –
  nicht nur meteorologisch – legt der Fährmann mit seiner neuen CD „Ne
 unzig Liter und mehr“ eine wahrhaft gelungene Scheibe vor. Die Geschicht
 en und Beobachtungen der Platte tragen die Mäntel\, die aus roughem\, fol
 kigem\, bluesy und ein bisschen rockigem Garn gewebt sind. Aber im besten 
 Sinne. Mainstream-Individualität\, seelenlose Shopping-Malls\, (ver)einsa
 m(t)e Fußgängerzonen\, Smartphone-Touristen. Flucht und Wiederkehr. All 
 das spiegelt sich in seinen Songs.\n„Es ist definitiv nicht mehr im Main
 stream\, so schonungslos scharfsichtig in die Nacht zu schauen wie der Fä
 hrmann mit Gitarre und Mundharmonika“. (Main-Echo am 25. April 2015)\n
 „Wenn der Fährmann singt oder Harp spielt\, läuft es einem den Rücken
  runter. Weil er gut spielt\, weil seine Texte einen ins Herz treffen.“ 
 (Schaumburger Nachrichten am 23. Januar 2017)\nSo ist es auch kein Wunder\
 , dass seine Songs bereits von anderen Bands gecovert werden und die Juror
 en der Liederbestenliste auf ihn aufmerksam wurden. Diese eroberte er bere
 its Anfang 2014 mit „Feuer im Schnee“ (Doppel-CD „Live in Briescht
 “) und aktuell im Juli 2018 mit “So weit die Füße tragen” (CD “N
 eunzig Liter und mehr”) auf Rang 11. Mal folkig\, fast „stampfend-rock
 ig“\, dann wieder stiller\, dem Chanson nahe\, dabei stets bei sich selb
 st bleibend. Musikalisch\, poetisch verdichtetes\, und immer intensives Ge
 fühl pur.
ATTACH;FMTTYPE=image/jpeg:https://kneipenkonzerte.de/wp-content/uploads/20
 18/06/faehrmann-songschreiber.jpg
CATEGORIES:Folk
LOCATION:Gewoelbe Vegesack\,  hinter der Sagerstraße 36\, Bremen\, Bremen\
 , 28759 \, Bremen\, Deutschland
GEO:53.170548;8.624959
X-APPLE-STRUCTURED-LOCATION;VALUE=URI;X-ADDRESS= hinter der Sagerstraße 36
 \, Bremen\, Bremen\, 28759 \, Bremen\, Deutschland;X-APPLE-RADIUS=100;X-TI
 TLE=Gewoelbe Vegesack:geo:53.170548,8.624959
END:VEVENT
BEGIN:VTIMEZONE
TZID:Europe/Berlin
X-LIC-LOCATION:Europe/Berlin
BEGIN:DAYLIGHT
DTSTART:20180325T030000
TZOFFSETFROM:+0100
TZOFFSETTO:+0200
TZNAME:CEST
END:DAYLIGHT
END:VTIMEZONE
END:VCALENDAR