BEGIN:VCALENDAR
VERSION:2.0
PRODID:-//wp-events-plugin.com//7.2.3.1//EN
TZID:Europe/Berlin
X-WR-TIMEZONE:Europe/Berlin
BEGIN:VEVENT
UID:1912@kneipenkonzerte.de
DTSTART;TZID=Europe/Berlin:20180907T200000
DTEND;TZID=Europe/Berlin:20180907T223000
DTSTAMP:20180630T150830Z
URL:https://kneipenkonzerte.de/veranstaltungen/faehrmann-holtland/
SUMMARY:Fährmann
DESCRIPTION:FÄHRMANN – ein Sänger und Liederschreiber\, der beweist\, d
 ass es noch möglich ist\, wertvolle Texte mit guter\, handgemachter Musik
  zu paaren. Umhüllt und getragen von verdichteter Poesie und feinfühlige
 r Musikalität\, gestaltet er selten gewordene und unvergleichliche Konzer
 tabende. Man könnte es sich einfach machen und schlicht erklären\, dass 
 es sich bei ihm um einen Liedermacher handelt. Falsch wäre es nicht. Aber
  es ist nicht ausreichend. Gemeinsam mit seinem Produzenten Karl Neukauf i
 st er derzeit auf Record-Release-Tour.\n\nIn „stürmischen Zeiten“ –
  nicht nur meteorologisch – legt der Fährmann mit seiner neuen CD „Ne
 unzig Liter und mehr“ eine wahrhaft gelungene Scheibe vor. Die Geschicht
 en und Beobachtungen der Platte tragen die Mäntel\, die aus roughem\, fol
 kigem\, bluesy und ein bisschen rockigem Garn gewebt sind. Aber im besten 
 Sinne. Mainstream-Individualität\, seelenlose Shopping-Malls\, (ver)einsa
 m(t)e Fußgängerzonen\, Smartphone-Touristen. Flucht und Wiederkehr. All 
 das spiegelt sich in seinen Songs.\n\nSo ist es auch kein Wunder\, dass se
 ine Songs bereits von anderen Bands gecovert werden und die Juroren der Li
 ederbestenliste auf ihn aufmerksam wurden. Diese eroberte er bereits Anfan
 g 2014 mit „Feuer im Schnee“ (Doppel-CD „Live in Briescht“) und ak
 tuell im Juli 2018 mit “So weit die Füße tragen” (CD “Neunzig Lite
 r und mehr”) auf Rang 11. Mal folkig\, fast „stampfend-rockig“\, dan
 n wieder stiller\, dem Chanson nahe\, dabei stets bei sich selbst bleibend
 . Musikalisch\, poetisch verdichtetes\, und immer intensives Gefühl pur.
ATTACH;FMTTYPE=image/jpeg:https://kneipenkonzerte.de/wp-content/uploads/20
 18/06/faehrmann-songschreiber.jpg
CATEGORIES:Folk
LOCATION:Gulfhof Dat Achterenn\, Süderstr. 46  \, Holtland\, Niedersachsen
 \, 26835\, Deutschland
GEO:53.2755579;7.582765999999992
X-APPLE-STRUCTURED-LOCATION;VALUE=URI;X-ADDRESS=Süderstr. 46  \, Holtland\
 , Niedersachsen\, 26835\, Deutschland;X-APPLE-RADIUS=100;X-TITLE=Gulfhof D
 at Achterenn:geo:53.2755579,7.582765999999992
END:VEVENT
BEGIN:VTIMEZONE
TZID:Europe/Berlin
X-LIC-LOCATION:Europe/Berlin
BEGIN:DAYLIGHT
DTSTART:20180325T030000
TZOFFSETFROM:+0100
TZOFFSETTO:+0200
TZNAME:CEST
END:DAYLIGHT
END:VTIMEZONE
END:VCALENDAR