BEGIN:VCALENDAR
VERSION:2.0
PRODID:-//wp-events-plugin.com//7.2.3.1//EN
TZID:Europe/Berlin
X-WR-TIMEZONE:Europe/Berlin
BEGIN:VEVENT
UID:7083@kneipenkonzerte.de
DTSTART;TZID=Europe/Berlin:20250404T200000
DTEND;TZID=Europe/Berlin:20250404T230000
DTSTAMP:20250314T150955Z
URL:https://kneipenkonzerte.de/veranstaltungen/felix-damer/
SUMMARY:Felix Damer
DESCRIPTION:
LOCATION:Plunschli\, Husbyries 1\, Husby\, Schleswig-Holstein\, 24957 \, De
 utschland
GEO:54.76585;9.599379999999996
X-APPLE-STRUCTURED-LOCATION;VALUE=URI;X-ADDRESS=Husbyries 1\, Husby\, Schle
 swig-Holstein\, 24957 \, Deutschland;X-APPLE-RADIUS=100;X-TITLE=Plunschli:
 geo:54.76585,9.599379999999996
END:VEVENT
BEGIN:VTIMEZONE
TZID:Europe/Berlin
X-LIC-LOCATION:Europe/Berlin
BEGIN:DAYLIGHT
DTSTART:20250330T030000
TZOFFSETFROM:+0100
TZOFFSETTO:+0200
TZNAME:CEST
END:DAYLIGHT
END:VTIMEZONE
END:VCALENDAR