BEGIN:VCALENDAR
VERSION:2.0
PRODID:-//wp-events-plugin.com//7.2.3.1//EN
TZID:Europe/Berlin
X-WR-TIMEZONE:Europe/Berlin
BEGIN:VEVENT
UID:4056@kneipenkonzerte.de
DTSTART;TZID=Europe/Berlin:20200307T200000
DTEND;TZID=Europe/Berlin:20200307T231500
DTSTAMP:20200120T121056Z
URL:https://kneipenkonzerte.de/veranstaltungen/freshh/
SUMMARY:Freshh
DESCRIPTION:Geburtstagskonzert 24 Jahre Garfield Bistro und 5 Jahre FRESHH 
 in Burgdorf\nIn diesem Jahr feiert das Bistro Garfield sein 24 jähriges B
 estehen\, die Band FRESHH wird 5! Zwei schönes Gründe\, um einen Abend l
 ang Party zu machen!
ATTACH;FMTTYPE=image/jpeg:https://kneipenkonzerte.de/wp-content/uploads/20
 20/01/51582899_1181744515329979_3783425545606266880_n.jpg
CATEGORIES:Pop
LOCATION:Garfield\, Gartenstr. 45\, Burgdorf\, Deutschland\, 30301\, Hannov
 er\, Deutschland
GEO:52.449814;10.00585
X-APPLE-STRUCTURED-LOCATION;VALUE=URI;X-ADDRESS=Gartenstr. 45\, Burgdorf\, 
 Deutschland\, 30301\, Hannover\, Deutschland;X-APPLE-RADIUS=100;X-TITLE=Ga
 rfield:geo:52.449814,10.00585
END:VEVENT
BEGIN:VTIMEZONE
TZID:Europe/Berlin
X-LIC-LOCATION:Europe/Berlin
BEGIN:STANDARD
DTSTART:20191027T020000
TZOFFSETFROM:+0200
TZOFFSETTO:+0100
TZNAME:CET
END:STANDARD
END:VTIMEZONE
END:VCALENDAR