BEGIN:VCALENDAR
VERSION:2.0
PRODID:-//wp-events-plugin.com//7.2.3.1//EN
TZID:Europe/Berlin
X-WR-TIMEZONE:Europe/Berlin
BEGIN:VEVENT
UID:164@kneipenkonzerte.de
DTSTART;TZID=Europe/Berlin:20160715T200000
DTEND;TZID=Europe/Berlin:20160715T230000
DTSTAMP:20160529T105730Z
URL:https://kneipenkonzerte.de/veranstaltungen/frizz-feick-berlin/
SUMMARY:Frizz Feick
DESCRIPTION:Deutscher Lounge-Pop mit Texten voller Tiefe und Leichtigkeit\,
  Ernst und Humor.
ATTACH;FMTTYPE=image/jpeg:https://kneipenkonzerte.de/wp-content/uploads/20
 16/05/frizz-feick.jpg
CATEGORIES:Jazz
LOCATION:Zimmer 16\, Florastraße 16  \, Berlin\, Berlin\, 13187 \, Berlin\
 , Deutschland
GEO:52.5655394;13.401420599999938
X-APPLE-STRUCTURED-LOCATION;VALUE=URI;X-ADDRESS=Florastraße 16  \, Berlin\
 , Berlin\, 13187 \, Berlin\, Deutschland;X-APPLE-RADIUS=100;X-TITLE=Zimmer
  16:geo:52.5655394,13.401420599999938
END:VEVENT
BEGIN:VTIMEZONE
TZID:Europe/Berlin
X-LIC-LOCATION:Europe/Berlin
BEGIN:DAYLIGHT
DTSTART:20160327T030000
TZOFFSETFROM:+0100
TZOFFSETTO:+0200
TZNAME:CEST
END:DAYLIGHT
END:VTIMEZONE
END:VCALENDAR