BEGIN:VCALENDAR
VERSION:2.0
PRODID:-//wp-events-plugin.com//7.2.3.1//EN
TZID:Europe/Berlin
X-WR-TIMEZONE:Europe/Berlin
BEGIN:VEVENT
UID:163@kneipenkonzerte.de
DTSTART;TZID=Europe/Berlin:20160611T210000
DTEND;TZID=Europe/Berlin:20160611T210000
DTSTAMP:20160529T105518Z
URL:https://kneipenkonzerte.de/veranstaltungen/frizz-feick-george-kochbeck
 /
SUMMARY:Frizz Feick & George Kochbeck
DESCRIPTION:Am Samstag\, 11. Juni treten Frizz Feick &amp\; George Kochbeck
  um 21 Uhr (Einlass 20 Uhr) im ASB-Bahnhof Barsinghausen auf. Jazz und Pop
  am Samstagabend in Perfektion aus dem Schaumburger Land. Deutscher Lounge
 -Pop mit Texten voller Tiefe und Leichtigkeit\, Ernst und Humor.\n\nKarten
  für die Konzerte (Einlass ist jeweils um 20 Uhr\, Beginn um 21 Uhr) gibt
  es direkt im ASB-Bahnhof\, im Bücherhaus Barsinghausen und im Touristoff
 ice Barsinghausen oder an der Abendkasse. Der Eintritt für Erwachsene bet
 rägt 8\,- Euro im Vorverkauf sowie 10\,- Euro an der Abendkasse. Schüler
 \, Studenten\, Rentner\, Schwerbehinderte\, ALG-II Bedürftige zahlen 4\,-
  Euro im Vorverkauf und 5\,- Euro an der Abendkasse.
ATTACH;FMTTYPE=image/jpeg:https://kneipenkonzerte.de/wp-content/uploads/20
 16/05/frizz-feick.jpg
CATEGORIES:Jazz
LOCATION:ASB-Bahnhof Barsinghausen\, Berliner Straße 8\, Barsinghausen\, N
 iedersachsen\, 30890\, Hannover\, Deutschland
GEO:52.30485;9.46687
X-APPLE-STRUCTURED-LOCATION;VALUE=URI;X-ADDRESS=Berliner Straße 8\, Barsin
 ghausen\, Niedersachsen\, 30890\, Hannover\, Deutschland;X-APPLE-RADIUS=10
 0;X-TITLE=ASB-Bahnhof Barsinghausen:geo:52.30485,9.46687
END:VEVENT
BEGIN:VTIMEZONE
TZID:Europe/Berlin
X-LIC-LOCATION:Europe/Berlin
BEGIN:DAYLIGHT
DTSTART:20160327T030000
TZOFFSETFROM:+0100
TZOFFSETTO:+0200
TZNAME:CEST
END:DAYLIGHT
END:VTIMEZONE
END:VCALENDAR