BEGIN:VCALENDAR
VERSION:2.0
PRODID:-//wp-events-plugin.com//7.2.3.1//EN
TZID:Europe/Berlin
X-WR-TIMEZONE:Europe/Berlin
BEGIN:VEVENT
UID:168@kneipenkonzerte.de
DTSTART;TZID=Europe/Berlin:20160603T190000
DTEND;TZID=Europe/Berlin:20160603T223000
DTSTAMP:20160530T083446Z
URL:https://kneipenkonzerte.de/veranstaltungen/gesine-heinrich-bielefeld/
SUMMARY:Gesine Heinrich
DESCRIPTION:Gesine Heinrich: 5 x Liebe!\nLieder\, Songs\, Chansons\, Canzon
 i\, Canciones.\nEine musikalische Reise durch Sprachen\, Stile\, Emotionen
 .\nDie Songwriterin Gesine Heinrich ist in 5 Sprachen verliebt\, verrückt
 \, verzweifelt\, komisch\, wütend\, glücklich. Und authentisch. Polyglot
 t und stilistisch brillant vereint sie in ihren Liebesliedern und satirisc
 h-philosophischen Balladen Chanson und Pop\, Klassik und Broadway\, Folk u
 nd Filmmusik. Und macht sich so auf den Weg von Berlin nach New York\, von
  Paris nach Sizilien nach Chile. Starke Texte\, große Gefühle. Melodien\
 , die bleiben. Eine Stimme für die Welt.\nEintritt frei\, Austritt erwün
 scht
ATTACH;FMTTYPE=image/jpeg:https://kneipenkonzerte.de/wp-content/uploads/20
 16/05/gesine-heinrich.jpg
CATEGORIES:Chanson,Folk,Pop
LOCATION:Neue Schmiede\, Handwerkerstraße 7\, Bielefeld\, NRW\, 33617\, Os
 twestfalen\, Deutschland
GEO:52.00880799999999;8.523420100000067
X-APPLE-STRUCTURED-LOCATION;VALUE=URI;X-ADDRESS=Handwerkerstraße 7\, Biele
 feld\, NRW\, 33617\, Ostwestfalen\, Deutschland;X-APPLE-RADIUS=100;X-TITLE
 =Neue Schmiede:geo:52.00880799999999,8.523420100000067
END:VEVENT
BEGIN:VTIMEZONE
TZID:Europe/Berlin
X-LIC-LOCATION:Europe/Berlin
BEGIN:DAYLIGHT
DTSTART:20160327T030000
TZOFFSETFROM:+0100
TZOFFSETTO:+0200
TZNAME:CEST
END:DAYLIGHT
END:VTIMEZONE
END:VCALENDAR