BEGIN:VCALENDAR
VERSION:2.0
PRODID:-//wp-events-plugin.com//7.2.3.1//EN
TZID:Europe/Berlin
X-WR-TIMEZONE:Europe/Berlin
BEGIN:VEVENT
UID:4085@kneipenkonzerte.de
DTSTART;TZID=Europe/Berlin:20200322T180000
DTEND;TZID=Europe/Berlin:20200322T220000
DTSTAMP:20200129T110230Z
URL:https://kneipenkonzerte.de/veranstaltungen/gudrun-walther-juergen-trey
 z-cara/
SUMMARY:Gudrun Walther & Jürgen Treyz   (Cara)
DESCRIPTION:Celtic Circle\nZwei der erfolgreichsten Folkmusiker Deutschland
 s sind zum 1. Mal in unserem Bräukeller- wir sind schon gespannt und freu
 en uns natürlich sehr.
ATTACH;FMTTYPE=image/jpeg:https://kneipenkonzerte.de/wp-content/uploads/20
 16/05/kneipenkonzert-livemusik-veranstaltung-1.jpg
CATEGORIES:Folk
LOCATION:Woinemer Hausbrauerei\, Friedrichstrasse 23\, Weinheim\, Baden-Wü
 rttemberg\, 69469\, Rhein Neckar Kreis\, Deutschland
GEO:49.5536328;8.669610700000021
X-APPLE-STRUCTURED-LOCATION;VALUE=URI;X-ADDRESS=Friedrichstrasse 23\, Weinh
 eim\, Baden-Württemberg\, 69469\, Rhein Neckar Kreis\, Deutschland;X-APPL
 E-RADIUS=100;X-TITLE=Woinemer Hausbrauerei:geo:49.5536328,8.66961070000002
 1
END:VEVENT
BEGIN:VTIMEZONE
TZID:Europe/Berlin
X-LIC-LOCATION:Europe/Berlin
BEGIN:STANDARD
DTSTART:20191027T020000
TZOFFSETFROM:+0200
TZOFFSETTO:+0100
TZNAME:CET
END:STANDARD
END:VTIMEZONE
END:VCALENDAR