BEGIN:VCALENDAR
VERSION:2.0
PRODID:-//wp-events-plugin.com//7.2.3.1//EN
TZID:Europe/Berlin
X-WR-TIMEZONE:Europe/Berlin
BEGIN:VEVENT
UID:4928@kneipenkonzerte.de
DTSTART;TZID=Europe/Berlin:20220514T210000
DTEND;TZID=Europe/Berlin:20220514T233000
DTSTAMP:20220512T151253Z
URL:https://kneipenkonzerte.de/veranstaltungen/hard-n-blue-frosch/
SUMMARY:Hard ´n Blue
DESCRIPTION:
ATTACH;FMTTYPE=image/jpeg:https://kneipenkonzerte.de/wp-content/uploads/20
 16/05/cropped-kneipenkonzert-livemusik-veranstaltung-1.jpg
CATEGORIES:Rock
LOCATION:Frosch\, Franz-Nause-Str. 3\, Hannover\, Niedersachsen\, 30453 \, 
 Hannover\, Deutschland
GEO:52.3749693;9.694632500000012
X-APPLE-STRUCTURED-LOCATION;VALUE=URI;X-ADDRESS=Franz-Nause-Str. 3\, Hannov
 er\, Niedersachsen\, 30453 \, Hannover\, Deutschland;X-APPLE-RADIUS=100;X-
 TITLE=Frosch:geo:52.3749693,9.694632500000012
END:VEVENT
BEGIN:VTIMEZONE
TZID:Europe/Berlin
X-LIC-LOCATION:Europe/Berlin
BEGIN:DAYLIGHT
DTSTART:20220327T030000
TZOFFSETFROM:+0100
TZOFFSETTO:+0200
TZNAME:CEST
END:DAYLIGHT
END:VTIMEZONE
END:VCALENDAR